BEGIN:VCALENDAR
VERSION:2.0
PRODID:-//Bio-PAT - ECPv5.3.2.1//NONSGML v1.0//EN
CALSCALE:GREGORIAN
METHOD:PUBLISH
X-WR-CALNAME:Bio-PAT
X-ORIGINAL-URL:https://bio-pat.org
X-WR-CALDESC:Veranstaltungen für Bio-PAT
BEGIN:VTIMEZONE
TZID:Europe/Paris
BEGIN:DAYLIGHT
TZOFFSETFROM:+0100
TZOFFSETTO:+0200
TZNAME:CEST
DTSTART:20220327T010000
END:DAYLIGHT
BEGIN:STANDARD
TZOFFSETFROM:+0200
TZOFFSETTO:+0100
TZNAME:CET
DTSTART:20221030T010000
END:STANDARD
TZID:UTC
BEGIN:STANDARD
TZOFFSETFROM:+0000
TZOFFSETTO:+0000
TZNAME:UTC
DTSTART:20220101T000000
END:STANDARD
END:VTIMEZONE
BEGIN:VEVENT
DTSTART;TZID=Europe/Paris:20220426T090000
DTEND;TZID=Europe/Paris:20220429T170000
DTSTAMP:20260423T155945
CREATED:20220413T090532Z
LAST-MODIFIED:20220413T090534Z
UID:5995-1650963600-1651251600@bio-pat.org
SUMMARY:SOPAT über Kinematica auf der Anuga FoodTec in Köln
DESCRIPTION:Die Anuga FoodTec findet alle 3 Jahre in Köln statt. Die SOPAT GmbH wird in 2022 eine Auswahl ihrer Produkte auf dem Stand der Kinematica AG in Halle 4.1 auf Stand: B008 präsentieren. \n\n\n\nAusstellerverzeichnisProduktgruppenParallel laufende EventsInformationen für BesucherInformationen für Aussteller \n\n\n\nDie wichtigsten Erfolgsfaktoren für Ihren Besuch \n\n\n\nAlle weltweiten Zulieferer an einem Ort vereintRund 1.600 Aussteller (davon über 1.100 aus dem Ausland) zeigen\, welche Lösungen es für die künftigen Herausforderungen Ihrer Branche gibt. So können Sie sich unzählige Reisen sparen.Fokussiert auf Lebensmittel und GetränkeHier dreht sich alles ausschließlich um die Verarbeitung\, Verpackung und Lagerung von Lebensmitteln- und Getränken – um IHR Business. Jeder Aussteller kennt die speziellen Anforderungen Ihrer Branche.Lösungen für alle Schritte der ProzessketteAuf der Anuga FoodTec finden Sie ALLES\, was sie zur Produktion ihrer Lebensmittel und Getränke benötigen – von Processing über Packaging\, von Safety über Digitalisierung\, von Intralogistik bis zur Umwelttechnologie. ONE FOR ALL!Live-PräsentationenAuf der Anuga FoodTec präsentieren die Aussteller ihr komplettes Portfolio live. Als Besucher können Sie vor Ort die weltweit verfügbaren Technologien erleben\, anfassen\, ansehen.Neue Anlagen für mehr ProfitNeue Anlagen amortisieren sich häufig nach kurzer Zeit\, dank reduziertem Stromverbrauch\, geringerem Wasserverbrauch oder höherem Output.Die Branche informiert sich geschlossen in KölnRund 50.000 Besucher aus ca. 155 Ländern werden sich über die neusten Entwicklungen der Branche informieren. Wer hier fehlt\, fehlt!Höchste Beratungskompetenz86 % der Aussteller sind Hersteller. Für Sie als Besucher bedeutet das einen hohen und kompetenten Informationsfluss aus erster Hand. Hier werden alle Fragen schnell und kompetent beantwortet.TrendsetzendDie Anuga FoodTec ist die Leistungsschau der globalen Zulieferindustrie. Innovative und zukunftsweisende Technologien und Lösungen werden hier exklusiv präsentiert. Technik zum Anfassen und Erleben – für einen hohen Informationsaustausch und als Basis für neue Projekte und Beziehungen.Einfach erreichbarOb mit dem Flugzeug über Frankfurt\, Köln/Bonn oder Düsseldorf\, über den europäischen ICE-Knotenpunkt KölnMesse oder über den Kölner Autobahnring: das Kölner Messegelände ist top angebunden und schnell erreichbarWerden Sie Teil der ErfolgsgeschichteSeit über 10 Jahren wächst die Anuga FoodTec kontinuierlich. Mehr Angebot\, mehr Nachfrage\, mehr maßgeschneiderte Lösungen für Ihren Bedarf.
URL:https://bio-pat.org/event/sopat-ueber-kinematica-auf-der-anuga-foodtec-in-koeln
LOCATION:Venue: Koelnmesse\, Messeplatz 1\, Köln\, 50679
ATTACH;FMTTYPE=image/jpeg:https://bio-pat.org/wp-content/uploads/2022/04/Logo_AnugaFoodTec_Logo.jpg
END:VEVENT
BEGIN:VEVENT
DTSTART;TZID=Europe/Paris:20220428T090000
DTEND;TZID=Europe/Paris:20220429T170000
DTSTAMP:20260423T155945
CREATED:20220413T091727Z
LAST-MODIFIED:20220422T084851Z
UID:6003-1651136400-1651251600@bio-pat.org
SUMMARY:KNAUER Schulung: OpenLab Software
DESCRIPTION:Die KNAUER Akademie ist wieder geöffnet! \n\n\n\nIn diesem Kurs werden die Teilnehmer schrittweise an OpenLab herangeführt. Hierbei lernen sie\, ihre Analysen mithilfe der Chromatografie-Datenerfassung schnell und effektiv auszuwerten. Außerdem wird der Einsatz von OpenLab bei Einzelinstrumenten als auch bei mehreren Benutzern und Anlagen erklärt. \n\n\n\nInhalt: \n\n\n\nErstellen von ProjektenKenntnisse über das Erstellen von „Instruments“ und die Konfiguration von Geräten und SystemenSelbstständiges Erstellen von Methoden (Instrument Setup)Bearbeitung von Chromatogrammen (Integration\, Annotations)Auswertung von Chromatogrammen\, KalibrierungSequenzerstellungErstellen von Reporttemplates\n\n\n\nBei Fragen zum Kursangebot\, sowie zu den Anmeldungen kontaktieren Sie KNAUER unter: academy@knauer.net! \n\n\n\nInformationenRegistieren
URL:https://bio-pat.org/event/knauer-schulung-openlab-software
LOCATION:Venue: KNAUER online
ATTACH;FMTTYPE=image/jpeg:https://bio-pat.org/wp-content/uploads/2022/04/knauer_akademie_online_logo_1188x542_3.jpg
END:VEVENT
BEGIN:VEVENT
DTSTART;TZID=Europe/Paris:20220428T140000
DTEND;TZID=Europe/Paris:20220428T140000
DTSTAMP:20260423T155945
CREATED:20220413T085051Z
LAST-MODIFIED:20220413T085053Z
UID:5986-1651154400-1651154400@bio-pat.org
SUMMARY:KNAUER beteiligt sich am Girls' Day in Berlin
DESCRIPTION:Am 28.04.22 findet in Berlin der Girls‘ Day statt. Er findet seit 2001 statt und wird gefördert vom Bundesministerium für Familien\, Senioren\, Frauen und Jugend und vom Bundesministerium für Bildung und Forschung. \n\n\n\nAuch die KNAUER Wissenschaftliche Geräte GmbH nimmt teil und gibt theoretische und praktische Einblicke in die Berufswelt.  Zum Programm bei KNAUER. Zur Anmeldung. \n\n\n\nMachen auch Sie als Unternehmen mit! \n\n\n\n\n\n\n\nZahlen zum Girls’Day 2022 \n\n\n\nWie viele Girls’Day-Angebote und -Plätze für Mädchen gibt es aktuell im Radar? Hier finden Sie die komplette Statistik\, aufgeschlüsselt nach Bundesländern\, Kommunen und Städten.Seit 2001 haben Unternehmen und Institutionen insgesamt mehr als 150.000 Veranstaltungen mit Plätzen für rund 2 Millionen Mädchen angeboten. Genaue Zahlen: Girls’Day in ZahlenIm Radar können Sie außerdem gezielt für Ihre Region recherchieren und Zahlen\, Themen der Veranstaltungen und Ansprechpersonen finden.\n\n\n\nDer Girls’Day wirkt \n\n\n\nHier finden Sie die Evaluationsergebnisse zum Girls’Day sowie Statistiken zur Studien- und Berufswahl. \n\n\n\nLogos und Pressefotos \n\n\n\nLogos vomGirls’Day und vom Boys’Day\, Plakate und Grafiken gibt es im gemeinsamen Boys’Day- & Girls’Day-Pressekit.Im Pressebereich stehen Pressemitteilungen und Pressefotos zur Verfügung.\n\n\n\nFragen zum Aktionstag? \n\n\n\nZu den FAQs Presseanfragen bitte an: Jennifer Reker | Tel: +49 (0) 521 106-73 78 | reker@girls-day.de
URL:https://bio-pat.org/event/knauer-beteiligt-sich-am-girls-day-in-berlin
LOCATION:Venue: Berlin
ATTACH;FMTTYPE=image/jpeg:https://bio-pat.org/wp-content/uploads/2022/04/girls-day-logo.jpg
ORGANIZER;CN="Organisiert%20von%3A%20Kompetenzzentrum%20Technik-Diversity-Chancengleichheit%20e.%20V.":MAILTO:info@kompetenzz.de
END:VEVENT
BEGIN:VEVENT
DTSTART;TZID=Europe/Paris:20220503T150000
DTEND;TZID=Europe/Paris:20220503T180000
DTSTAMP:20260423T155945
CREATED:20220413T101935Z
LAST-MODIFIED:20220502T074152Z
UID:6015-1651590000-1651600800@bio-pat.org
SUMMARY:Bio-PAT Mini-Symposium: Partikel- und Zellanalysetechnologien zur verbesserten Bioprozesskontrolle
DESCRIPTION:Partikelanalysetechnologien\, die auch der Analytik von (Einzel-)Zellen dienen\, sind nützliche Tools\, um u.a. die Größe\, Verteilung und den Zustand von Zellen sowie Populationsheterogenitäten in Bioprozessen zu erfassen und diese Prozesse damit besser zu charakterisieren. Somit können Schwachstellen oder kritische Phasen im Prozess erkannt und Potentiale der Optimierung identifiziert werden. Methoden zur inline\, online oder sogar in-situ Anwendung ermöglichen eine dauerhafte Echtzeitüberwachung und damit ein schnelleres Eingreifen in den Prozess. \n\n\n\nEinige dieser Techniken werden im Mini-Symposium vorgestellt. Es werden deren Potentiale und Grenzen diskutiert und Anwendungsbeispiele aus verschiedenen Prozessen und damit für unterschiedliche Mikroorganismen und Zelldichten präsentiert. \n\n\n\n\n\n\n\nProgramm: \n\n\n\n(Einlass und Getränke ab 14:30 Uhr) \n\n\n\n15:00 Uhr Begrüßung und EinführungAnika Bockisch (Bio-PAT e.V.)Moderation: Prof. Dr. Peter Neubauer (Vorstandsvorsitzener Bio-PAT e.V.)15:15 Uhr Beobachtung biologischer Strukturen mittels Algorithmen-basierter photo-optischer Technologie in Echtzeit und in-situ unter ProzessbedingungenDr. Mirco Wegener (SOPAT GmbH)15:50 Uhr Quantitative inline Spektroskopie in hochkonzentrierten BioprozessenDr. Roland Hass (PDW Analytics GmbH)16:25 Uhr Möglichkeiten der Sequip ORM (optical reflection measurement) in BioprozessenHermann Schwartz (Sequip S+E GmbH) – Online-Beitrag17:00 Uhr: Kleines Get-Together dank Unterstützung durch die biotechrabbit GmbH \n\n\n\n\n\n\n\nUm Anmeldung (kostenfrei) wird gebeten. Eine Teilnahme ist auch online möglich. Der Link wird nach Anmeldung zugesandt. \n\n\n\n\n\n\n\nMedienpartner:
URL:https://bio-pat.org/event/bio-pat-mini-symposium-partikelmesstechnik-in-bioprozessen
LOCATION:Venue: WISTA Management GmbH Conventions\, Rudower Chaussee 17\, Curie-Kabinett\, Berlin\, 12489
ATTACH;FMTTYPE=image/png:https://bio-pat.org/wp-content/uploads/2022/04/Flyer-Mini-Symposium-April-2022_300x225-qmore-2.png
ORGANIZER;CN="Organisation%3A%20Bio-PAT%20e.V.":MAILTO:info@bio-pat.org
END:VEVENT
BEGIN:VEVENT
DTSTART;TZID=Europe/Paris:20220505T110000
DTEND;TZID=Europe/Paris:20220505T120000
DTSTAMP:20260423T155945
CREATED:20220413T100513Z
LAST-MODIFIED:20220413T100801Z
UID:6006-1651748400-1651752000@bio-pat.org
SUMMARY:BlueSens Webinar: Let's talk about measurements I
DESCRIPTION:The BlueSens gas sensor GmbH\, a member of the Bio-PAT network offers a webinar in English: „Let’s talk about measurements“. \n\n\n\nWhen researching the purchase of a new measuring device\, you will be confronted with a wide variety of information on the measuring accuracies of the device in the data sheets. But what exactly does precision mean and what is the difference to accuracy? What is drift and why should you not miss the regular calibrations. What exactly do the specifications mean for you as a user? Join in and get an introduczion in the secrets of your data sheet. \n\n\n\nLanguage: English Duration: app. 60 minutesAn invitation link (webex) will be sent to you immediately after registration.
URL:https://bio-pat.org/event/bluesens-webinar
LOCATION:Venue: Online BlueSens Academy
ATTACH;FMTTYPE=image/png:https://bio-pat.org/wp-content/uploads/2021/03/csm_Icon-Academy-RGB-POS_ed94c253c7.png
END:VEVENT
BEGIN:VEVENT
DTSTART;TZID=Europe/Paris:20220505T170000
DTEND;TZID=Europe/Paris:20220505T180000
DTSTAMP:20260423T155945
CREATED:20220413T100841Z
LAST-MODIFIED:20220413T100843Z
UID:6010-1651770000-1651773600@bio-pat.org
SUMMARY:BlueSens Webinar: Let's talk about measurements II
DESCRIPTION:The BlueSens gas sensor GmbH\, a member of the Bio-PAT network offers a webinar in English: „Let’s talk about measurements“. \n\n\n\nWhen researching the purchase of a new measuring device\, you will be confronted with a wide variety of information on the measuring accuracies of the device in the data sheets. But what exactly does precision mean and what is the difference to accuracy? What is drift and why should you not miss the regular calibrations. What exactly do the specifications mean for you as a user? Join in and get an introduczion in the secrets of your data sheet. \n\n\n\nLanguage: EnglishDuration: app. 60 minutesAn invitation link (webex) will be sent to you immediately after registration.
URL:https://bio-pat.org/event/bluesens-webinar-lets-talk-about-measurements-ii
LOCATION:Venue: Online BlueSens Academy
ATTACH;FMTTYPE=image/png:https://bio-pat.org/wp-content/uploads/2021/03/csm_Icon-Academy-RGB-POS_ed94c253c7.png
END:VEVENT
BEGIN:VEVENT
DTSTART;TZID=Europe/Paris:20220507T130000
DTEND;TZID=Europe/Paris:20220507T200000
DTSTAMP:20260423T155945
CREATED:20220303T082221Z
LAST-MODIFIED:20220303T082222Z
UID:5772-1651928400-1651953600@bio-pat.org
SUMMARY:Potsdamer Tag der Wissenschaften am ATB
DESCRIPTION:Potsdamer Tag der Wissenschaften am ATB  \n\n\n\n\n\n\n\nForschen. Entdecken. Mitmachen. Dieses Motto steht auch in diesem Jahr für den Potsdamer Tag der Wissenschaften\, der am 7. Mai 2022 am Leibniz-Institut für Agrartechnik und Bioökonomie (ATB) in Potsdam-Bornim als Präsenzveranstaltung mit spannenden Programmpunkten\, Forschung zum Anfassen und einem begeisternden Rahmenprogramm stattfindet.  \n\n\n\nDer Eintritt ist frei. \n\n\n\n\n\n\n\nEs erwartet Sie ein spannendes Programm mit Vorträgen\, Demonstrationen und Führungen durch Labore und Forschungshallen. Im Forschercamp können Sie Einblicke in die praktische Arbeit der Wissenschaftler*innen gewinnen und mit den Forscher*innen ins Gespräch kommen. Mitmachangebote für Groß und Klein laden zum Experimentieren ein. Ein künstlerisches Begleitprogramm bietet Unterhaltsames zur Inspiration und zum Nachdenken. Zudem wird es eine Virtual Stage geben: Alles\, was dort präsentiert wird\, kann zugleich auf der Webseite live verfolgt werden. \n\n\n\nInformationen und Programm (im Aufbau) auf der Veranstaltungs-Homepage.
URL:https://bio-pat.org/event/potsdamer-tag-der-wissenschaften-am-atb
LOCATION:Veranstaltungsort: Leibniz-Institut für Agrartechnik und Bioökonomie (ATB)\, Max-Eyth-Allee 100\, Potsdam\, 14469\, Deutschland
ATTACH;FMTTYPE=image/jpeg:https://bio-pat.org/wp-content/uploads/2022/03/PTdW.jpg
ORGANIZER;CN="Organisation%3A%20Leibniz-Institut%20f%C3%BCr%20Agrartechnik%20und%20Bio%C3%B6konomie%20%28ATB%29":MAILTO:jlietze@atb-potsdam.de
END:VEVENT
BEGIN:VEVENT
DTSTART;TZID=Europe/Paris:20220510T080000
DTEND;TZID=Europe/Paris:20220512T180000
DTSTAMP:20260423T155945
CREATED:20210906T154152Z
LAST-MODIFIED:20220228T145047Z
UID:5694-1652169600-1652378400@bio-pat.org
SUMMARY:Pronova Analysentechnik GmbH & Co. KG auf den Deutschen Baumpflegetagen
DESCRIPTION:Zwei Jahre lang mussten die Deutschen Baumpflegetage coronabedingt eine Zwangspause einlegen. Zwei Jahre\, in denen die Forschungen zu hochaktuellen Themen weiterliefen\, nicht aber auf Tagungen kommuniziert werden konnten. Vom 10. bis zum 12. Mai 2022 wird die Tagung in Augsburg wieder durchstarten und neueste Erkenntnisse präsentieren. \n\n\n\nFachpartner der Deutschen Baumpflegetage 2022 sind die Parlamentsgruppe Kulturgut Alleen und die Alleenschutzgemeinschaft. Gemeinsam mit den Organisatoren haben sie ein Programm erarbeitet\, das den Schutz und die Pflege von Alleen- und Straßenbäumen in all ihren komplexen Facetten beleuchtet. Trockenstress und Klimabäume sind diesbezüglich zwei wichtige Stichworte. \n\n\n\nDie Pronova Analysentechnik GmbH & Co. KG ist auch Aussteller und berät Sie gern zu Produkten\, Entwicklungen und Services im Bereich Agrarmesstechnik. \n\n\n\nProgrammAnmeldung für AusstellerAnmeldung für Besucher
URL:https://bio-pat.org/event/pronova-analysentechnik-gmbh-co-kg-auf-den-deutschen-baumpflegetagen
LOCATION:Venue: Messe Augsburg\, Am Messezentrum 5\, Augsburg\, 86159
ATTACH;FMTTYPE=image/jpeg:https://bio-pat.org/wp-content/uploads/2021/09/Pronova-deutsche-baumpflege.jpg
END:VEVENT
BEGIN:VEVENT
DTSTART;TZID=Europe/Paris:20220510T160000
DTEND;TZID=Europe/Paris:20220510T170000
DTSTAMP:20260423T155945
CREATED:20220426T073227Z
LAST-MODIFIED:20220426T073319Z
UID:6121-1652198400-1652202000@bio-pat.org
SUMMARY:KIWI-biolab Talk: The Role of Machine Intelligence in the future of Bioprocess Development
DESCRIPTION:In the frame of the series „KIWI-biolab talk“ Dr. Wolfgang Müller will give a talk on Tuesday\, May 10\, 2022\, at 16:00h. \n\n\n\n\n\n\n\nHe leads the Scientific Databases and Visualization (SDBV) Group at the Heidelberg Institute for Theoretical Studies (HITS). He is also Privatdozent at the Department for Business informatics and Applied Informatics at the University of Bamberg. \n\n\n\nHis team creates\, populates and maintains data base applications\, mostly for the use in systems biology. System biology strives to reach a system understanding of biological systems. The challenges that SDBV addresses range from data integrations and efficient data structures to Human Computer Interaction\, as well as social aspects of Open Data. \n\n\n\nDr. Müller has been coordinator of the data management of the systems biology Virtual Liver Network\, and is data management coordinator of the currently running LiSyM (Liver SystemsMedicine). He is also HITS’ delegate in transnational life sciences infrastructure initiatives as FAIRDOM\, ISBE\, and ELIXIR. \n\n\n\nIn his talk\, Dr. Müller will share his insights about FAIR. More details about the talk will follow soon. \n\n\n\nThe talk is open to everybody and no registration is required\, just click on this Zoom Link:
URL:https://bio-pat.org/event/kiwi-biolab-talk-the-role-of-machine-intelligence-in-the-future-of-bioprocess-development
LOCATION:Venue: Online
ATTACH;FMTTYPE=image/jpeg:https://bio-pat.org/wp-content/uploads/2021/10/Logo-KIWI.jpg
ORGANIZER;CN="Organizer%3A%20KIWI-biolab":MAILTO:marta.gonzalezgomez@campus.tu-berlin.de
END:VEVENT
BEGIN:VEVENT
DTSTART;TZID=Europe/Paris:20220511T133000
DTEND;TZID=Europe/Paris:20220512T190000
DTSTAMP:20260423T155945
CREATED:20220203T175315Z
LAST-MODIFIED:20220511T071530Z
UID:5506-1652275800-1652382000@bio-pat.org
SUMMARY:Bio-PAT at BIONNALE 2022 in Berlin
DESCRIPTION:BIONNALE 2022 in Berlin \n\n\n\nThe BIONNALE is the biggest networking event for life sciences and healthcare industries in the German capital region. At this event\, you get informed about the latest developments in life sciences! Representatives from academia and industry attend the annual life sciences event in Berlin to identify\, engage and start strategic relationships. The networking character is one strength of BIONNALE with more than 1000 attendees from over 50 countries in 2021. Be part of BIONNALE 2022 and use informative talks and new contacts for your business! Also Bio-PAT will participate. On May 11\, you can join many sessions on-site and online\, whereas on May 12\, all sessions will be digital. \n\n\n\nBIONNALE 2022 in Berlin offers:– Keynotes and sessions on biotech\, pharma\, medtech and digital health– Matchmaking opportunities with an organized and web-based matchmaking system– Cooperation | Venture Track including tech-based company and academic presentations. Here\, the Bio-PAT Network and some members will give short presentations.– Virtual and on-site industry exhibition to present your products and services– BIONNALE Speed Lecture Award and Evening Reception \n\n\n\nSpeed Lecture Award on May 11:At the Speed Lecture Award\, young scientists will present their research projects from academia or companies in three minutes to an international life sciences audience. In the run-up to the event\, an independent jury will select six winners. They receive professional pitch coaching and at the final on May 11th they present their projects in front of the BIONNALE audience. The audience then acts as the jury and selects the first three places. The winners will receive up to 1000 €.Registration & application form for the Speed Lecture Award: HERE. \n\n\n\nKNAUER Wissenschaftliche Geräte GmbH is sponsor of the event and will exhibit on May 11\, 2022 on-site.Bio-PAT as well as the members OSPIN GmbH\, PDW Analytics GmbH\, SOPAT GmbH\, and ANiMOX GmbH will present at 3 pm in the Cooperation | Venture Track. Do not miss it! \n\n\n\n\n\n\n\nBIONNALE programme in detail \n\n\n\nProgramme overview:
URL:https://bio-pat.org/event/bionnale-2022-in-berlin
LOCATION:Venue: Online and on-site\, Fasanenstraße 85\, Berlin\, 10623
ATTACH;FMTTYPE=image/jpeg:https://bio-pat.org/wp-content/uploads/2022/02/BIONNALE_Banner_105x60mm_211103.jpg
ORGANIZER;CN="Organizer%3A%20HealthCapital%20Berlin-Brandenburg":MAILTO:info@healthcapital.de
END:VEVENT
BEGIN:VEVENT
DTSTART;TZID=UTC:20220512T090000
DTEND;TZID=UTC:20220513T180000
DTSTAMP:20260423T155945
CREATED:20200511T083804Z
LAST-MODIFIED:20220516T193501Z
UID:2513-1652346000-1652464800@bio-pat.org
SUMMARY:KNAUER sponsort Junganalytiker*Innen Forum 2022
DESCRIPTION:Symposium für Analytische Chemie und junge Wissenschaftler:innen. Aufruf an alle jungen Analytiker*Innen! \n\n\n\nDas Junganalytiker*Innen Forum\, organisiert von der Österreichischen Gesellschaft für Analytische Chemie (ASAC)\, richtet sich an junge AnalytikerInnen\, die am Beginn ihrer Karriere stehen und bietet ihnen die Möglichkeit\, ihre Forschung zu präsentieren und sich zu vernetzen.  \n\n\n\nDie Veranstaltung erstreckt sich über zwei Tage und bietet jungen Chemikern die Möglichkeit\, sich mit anderen Master-\, PhD- und PostDoc-Wissenschaftlern auf ihrem Gebiet sowie mit Experten aus Industrie und Wissenschaft auszutauschen.  \n\n\n\nDie KNAUER Wissenschaftliche Geräte GmbH ist Sponsor der Veranstaltung und präsentiert seine analytischen Lösungen\, wie z.B. die AZURA-Systeme für die Hochdruckflüssigkeitschromatographie. Der HPLC-Experte Marius Segl wird vor Ort sein\, um alle Fragen der angehenden Wissenschaftler*Innen zu beantworten und zu erklären\, wie die Technologie von KNAUER bei ihrer analytischen Forschung helfen kann. \n\n\n\n\n\n\n\nKNAUER ist ebenso Mitglied des Bio-PAT-Netwerks. \n\n\n\nProgrammAnmeldungVenue
URL:https://bio-pat.org/event/knauer-auf-dem-junganalytiker-forum
LOCATION:Venue: Institut für Bioanalytik und Agro-Metabolomics\, BOKU Wien\, Institut für Bioanalytik und Agro-Metabolomics\, Tulln\, 3430\, Österreich
ATTACH;FMTTYPE=image/jpeg:https://bio-pat.org/wp-content/uploads/2020/05/ASAC_LOGO_new-scaled-1.jpg
END:VEVENT
BEGIN:VEVENT
DTSTART;TZID=Europe/Paris:20220519T110000
DTEND;TZID=Europe/Paris:20220519T120000
DTSTAMP:20260423T155945
CREATED:20220428T081538Z
LAST-MODIFIED:20220428T082118Z
UID:6136-1652958000-1652961600@bio-pat.org
SUMMARY:BlueSens Webinar: Use what you have - the new concept at BlueSens I
DESCRIPTION:The BlueSens gas sensor GmbH\, a member of the Bio-PAT network offers a webinar in English: „Use what you have – the new concept at BlueSens“. \n\n\n\nA software that allows you to connect devices regardless of manufacturer and brand? A concept that allows you to assemble components as easily as stacking building blocks? Products of high quality\, well thought-out\, reliable and easy to use? This is Use what you have \n\n\n\nLanguage: EnglishDuration: app. 60 minutesAn invitation link (webex) will be sent to you immediately after registration.
URL:https://bio-pat.org/event/bluesens-webinar-use-what-you-have-the-new-concept-at-bluesens-i
LOCATION:Venue: Online
ATTACH;FMTTYPE=image/png:https://bio-pat.org/wp-content/uploads/2021/03/csm_Icon-Academy-RGB-POS_ed94c253c7.png
END:VEVENT
BEGIN:VEVENT
DTSTART;TZID=Europe/Paris:20220519T170000
DTEND;TZID=Europe/Paris:20220519T180000
DTSTAMP:20260423T155945
CREATED:20220428T082053Z
LAST-MODIFIED:20220428T082054Z
UID:6142-1652979600-1652983200@bio-pat.org
SUMMARY:BlueSens Webinar: Use what you have – the new concept at BlueSens II
DESCRIPTION:The BlueSens gas sensor GmbH\, a member of the Bio-PAT network offers a webinar in English: „Use what you have – the new concept at BlueSens“. \n\n\n\nA software that allows you to connect devices regardless of manufacturer and brand? A concept that allows you to assemble components as easily as stacking building blocks? Products of high quality\, well thought-out\, reliable and easy to use? This is Use what you have \n\n\n\nLanguage: EnglishDuration: app. 60 minutesAn invitation link (webex) will be sent to you immediately after registration.
URL:https://bio-pat.org/event/bluesens-webinar-use-what-you-have-the-new-concept-at-bluesens-ii
ATTACH;FMTTYPE=image/png:https://bio-pat.org/wp-content/uploads/2021/03/csm_Icon-Academy-RGB-POS_ed94c253c7.png
END:VEVENT
BEGIN:VEVENT
DTSTART;TZID=Europe/Paris:20220523T090000
DTEND;TZID=Europe/Paris:20220525T170000
DTSTAMP:20260423T155945
CREATED:20220206T100907Z
LAST-MODIFIED:20220206T104635Z
UID:5530-1653296400-1653498000@bio-pat.org
SUMMARY:Himmelfahrtstagung "Bioprocess Engineering 2022 - Future Bioprocesses for a Sustainable Industry"
DESCRIPTION:Future Bioprocesses for a Sustainable Industry is the topic for the next Himmelfahrtstagung\, the most important meeting for bioprocess and biochemical engineers in Germany.The conference will offer a detailed look at bioprocesses\, focusing on sustainability to foster bioeconomy. \n\n\n\nTopics cover:Bioprocess solutions to achieve sustainable development goalsApproaches for enabling a circular economyNovel bioprocesses as a driver for bioeconomySustainability in biopharma processesSmart bioreactor and Downstream processing concepts \n\n\n\nPoster abstracts can be submitted until 11.04.2022 HERE. \n\n\n\nRegistration and Fees  Committee  Exhibitor & Sponsoring Options  Venue and Accommodation 
URL:https://bio-pat.org/event/himmelfahrtstagung-on-bioprocess-engineering-2022-future-bioprocesses-for-a-sustainable-industry
LOCATION:Venue: Atrium-Hotel Mainz\, Flugplatzstr. 44\, Mainz\, 55126
ATTACH;FMTTYPE=image/jpeg:https://bio-pat.org/wp-content/uploads/2021/09/Logo_DECHEMA.jpg
ORGANIZER;CN="Organizer%3A%20Dechema%20e.V.":MAILTO:petra.hellwig@dechema.de
END:VEVENT
BEGIN:VEVENT
DTSTART;TZID=Europe/Paris:20220524T080000
DTEND;TZID=Europe/Paris:20220525T170000
DTSTAMP:20260423T155945
CREATED:20220111T172816Z
LAST-MODIFIED:20220519T132739Z
UID:5250-1653379200-1653498000@bio-pat.org
SUMMARY:3rd VLB Symposium on Acidic Fermented Non-Alcoholic Beverages
DESCRIPTION:Das 3. VLB Symposium on Acidic Fermented Non-Alcoholic Beverages (SAFB) wird am 24. und 25. Mai 2022 als Präsenzveranstaltung unter den entsprechenden pandemiebedingten Vorschriften an der VLB Berlin stattfinden. Das Symposium wird in englischer Sprache abgehalten. \n\n\n\nAusgewählte Expert:innen und Vertreter:innen aus Wissenschaft\, Industrie und Regulierungsbehörden werden die internationalen Teilnehmer auf den neuesten Stand der aktuellen Forschung und wichtigen Aspekte bezüglich sauer fermentierter\, nicht alkoholischer Getränke bringen. \n\n\n\nNeben interessanten Vorträgen wird es eine Ausstellung sowie eine Abendveranstaltung für regen Austausch geben.Bio-PAT nimmt auch als Aussteller teil. \n\n\n\nWeitere InformationenProgrammAnmeldung
URL:https://bio-pat.org/event/3rd-vlb-symposium-on-acidic-fermented-non-alcoholic-beverages
LOCATION:Venue: VLB Berlin\, Seestr. 13\, Berlin\, 13353\, Deutschland
ATTACH;FMTTYPE=image/jpeg:https://bio-pat.org/wp-content/uploads/2021/11/VLB-quer.jpg
ORGANIZER;CN="Organizer%3A%20VLB%20Berlin":MAILTO:hendel@vlb-berlin.org
END:VEVENT
BEGIN:VEVENT
DTSTART;TZID=Europe/Paris:20220530T090000
DTEND;TZID=Europe/Paris:20220603T170000
DTSTAMP:20260423T155945
CREATED:20210906T162701Z
LAST-MODIFIED:20220520T095613Z
UID:4518-1653901200-1654275600@bio-pat.org
SUMMARY:Bio-PAT und Pronova Analysentechnik GmbH & Co. KG auf der IFAT
DESCRIPTION:Die IFAT in München ist die Weltleitmesse der Wasser-\, Abwasser-\, Abfall- und Rohstoffwirtschaft. Sie findet alle zwei Jahre statt und hat sich seit ihrer Gründung 1966 als Branchentreff fest etabliert.Mit ihren Ablegern in China\, Indien\, Eurasien und Afrika ist das Messekonzept auch international sehr erfolgreich vertreten und mit ihrer einzigartigen Ausstellungs- und Dienstleistungspalette ist die IFAT eine Leistungsdemonstration\, die ihres gleichen sucht. Aussteller aus aller Welt präsentieren hier Strategien und Lösungen\, Produkte und zukunftsweisende Innovationen für einen nachhaltigen Umgang mit den Ressourcen in den Industrienationen sowie angepasste Technologien für Entwicklungs- und Schwellenländer. Das Ausstellungsspektrum reicht von Abwasserbehandlung über Abluftreinigung bis hin zu Entwässerungs- und Bodenaufbereitungstechnik. Dabei steht moderne und zukunftsorientierte Umwelttechnik im Vordergrund\, denn die Belastungen durch die stetig wachsende Industrie und die damit verbundene Ausbeutung der Ressourcen werden immer größer und erfordern internationalen Handlungsbedarf. Auch als Informations- und Kommunikationsplattform ist die IFAT ein Besuchermagnet und überzeugt mit modernstem Know-how\, internationalem Networking und einem anspruchsvollen Rahmenprogramm mit Foren\, Länderspecials\, Fachdiskussionen und Sonderveranstaltungen. Praxisnahe Live-Demonstrationen auf dem Freigelände runden das Angebot der Messe perfekt ab. \n\n\n\nDie Pronova Analysentechnik GmbH & Co. KG ist in Halle C1\, Stand 514 auch Aussteller vor Ort und berät Sie gern zu den Anforderungen TRAS 120 und 44. BlmSchV. und zu aktuellen Entwicklungen und Leistungen in den Bereichen Analysensysteme\, Analysatoren und Sensoren\, sowie für Komponenten der Biogasanalyse\, Gasanalyse und Gaswarntechnik. \n\n\n\nAuch das Netzwerk Bio-PAT wird auf dem Gemeinschaftsstand der Technischen Universität Berlin unter dem Stand von Berlin Partner für Wirtschaft und Technologie GmbH in Halle B2\, Stand 133/232 vertreten sein und die prozessanalytischen Technologien sowie Anwendungen einiger Mitglieder repräsentieren. \n\n\n\nAllgemeine InformationenInformationen für AusstellerInformationen für Besucher/Rahmenprogramm
URL:https://bio-pat.org/event/pronova-analysentechnik-gmbh-co-kg-auf-der-ifat
LOCATION:Venue: Messegelände München\, Am Messesee (Messe München Eingang West)\, München\, 81823\, Deutschland
ATTACH;FMTTYPE=image/png:https://bio-pat.org/wp-content/uploads/2021/09/Logo_IFAT_logo_cropped_600.png
ORGANIZER;CN="Organisation%3A%20Messe%20M%C3%BCnchen%20GmbH":MAILTO:newsline@messe-muenchen.de
END:VEVENT
END:VCALENDAR