BEGIN:VCALENDAR
VERSION:2.0
PRODID:-//Bio-PAT - ECPv5.3.2.1//NONSGML v1.0//EN
CALSCALE:GREGORIAN
METHOD:PUBLISH
X-WR-CALNAME:Bio-PAT
X-ORIGINAL-URL:https://bio-pat.org
X-WR-CALDESC:Veranstaltungen für Bio-PAT
BEGIN:VTIMEZONE
TZID:Europe/Paris
BEGIN:DAYLIGHT
TZOFFSETFROM:+0100
TZOFFSETTO:+0200
TZNAME:CEST
DTSTART:20220327T010000
END:DAYLIGHT
BEGIN:STANDARD
TZOFFSETFROM:+0200
TZOFFSETTO:+0100
TZNAME:CET
DTSTART:20221030T010000
END:STANDARD
TZID:UTC
BEGIN:STANDARD
TZOFFSETFROM:+0000
TZOFFSETTO:+0000
TZNAME:UTC
DTSTART:20220101T000000
END:STANDARD
END:VTIMEZONE
BEGIN:VEVENT
DTSTART;TZID=Europe/Paris:20220530T090000
DTEND;TZID=Europe/Paris:20220603T170000
DTSTAMP:20260423T141926
CREATED:20210906T162701Z
LAST-MODIFIED:20220520T095613Z
UID:4518-1653901200-1654275600@bio-pat.org
SUMMARY:Bio-PAT und Pronova Analysentechnik GmbH & Co. KG auf der IFAT
DESCRIPTION:Die IFAT in München ist die Weltleitmesse der Wasser-\, Abwasser-\, Abfall- und Rohstoffwirtschaft. Sie findet alle zwei Jahre statt und hat sich seit ihrer Gründung 1966 als Branchentreff fest etabliert.Mit ihren Ablegern in China\, Indien\, Eurasien und Afrika ist das Messekonzept auch international sehr erfolgreich vertreten und mit ihrer einzigartigen Ausstellungs- und Dienstleistungspalette ist die IFAT eine Leistungsdemonstration\, die ihres gleichen sucht. Aussteller aus aller Welt präsentieren hier Strategien und Lösungen\, Produkte und zukunftsweisende Innovationen für einen nachhaltigen Umgang mit den Ressourcen in den Industrienationen sowie angepasste Technologien für Entwicklungs- und Schwellenländer. Das Ausstellungsspektrum reicht von Abwasserbehandlung über Abluftreinigung bis hin zu Entwässerungs- und Bodenaufbereitungstechnik. Dabei steht moderne und zukunftsorientierte Umwelttechnik im Vordergrund\, denn die Belastungen durch die stetig wachsende Industrie und die damit verbundene Ausbeutung der Ressourcen werden immer größer und erfordern internationalen Handlungsbedarf. Auch als Informations- und Kommunikationsplattform ist die IFAT ein Besuchermagnet und überzeugt mit modernstem Know-how\, internationalem Networking und einem anspruchsvollen Rahmenprogramm mit Foren\, Länderspecials\, Fachdiskussionen und Sonderveranstaltungen. Praxisnahe Live-Demonstrationen auf dem Freigelände runden das Angebot der Messe perfekt ab. \n\n\n\nDie Pronova Analysentechnik GmbH & Co. KG ist in Halle C1\, Stand 514 auch Aussteller vor Ort und berät Sie gern zu den Anforderungen TRAS 120 und 44. BlmSchV. und zu aktuellen Entwicklungen und Leistungen in den Bereichen Analysensysteme\, Analysatoren und Sensoren\, sowie für Komponenten der Biogasanalyse\, Gasanalyse und Gaswarntechnik. \n\n\n\nAuch das Netzwerk Bio-PAT wird auf dem Gemeinschaftsstand der Technischen Universität Berlin unter dem Stand von Berlin Partner für Wirtschaft und Technologie GmbH in Halle B2\, Stand 133/232 vertreten sein und die prozessanalytischen Technologien sowie Anwendungen einiger Mitglieder repräsentieren. \n\n\n\nAllgemeine InformationenInformationen für AusstellerInformationen für Besucher/Rahmenprogramm
URL:https://bio-pat.org/event/pronova-analysentechnik-gmbh-co-kg-auf-der-ifat
LOCATION:Venue: Messegelände München\, Am Messesee (Messe München Eingang West)\, München\, 81823\, Deutschland
ATTACH;FMTTYPE=image/png:https://bio-pat.org/wp-content/uploads/2021/09/Logo_IFAT_logo_cropped_600.png
ORGANIZER;CN="Organisation%3A%20Messe%20M%C3%BCnchen%20GmbH":MAILTO:newsline@messe-muenchen.de
END:VEVENT
BEGIN:VEVENT
DTSTART;TZID=Europe/Paris:20220607T153000
DTEND;TZID=Europe/Paris:20220607T173000
DTSTAMP:20260423T141926
CREATED:20220429T084632Z
LAST-MODIFIED:20220523T071752Z
UID:6147-1654615800-1654623000@bio-pat.org
SUMMARY:Bio-PAT online-Workshop: Data Science with wega AG
DESCRIPTION:Bio-PAT online-Workshop: Data Science \n\n\n\nData science is a daily issue in life sciences and all industrial bioprocesses. It is especially important for analytical and control technologies where huge amounts of data are generated. \n\n\n\nTogether with wega Informatik AG\, Bio-PAT is organizing an online-Workshop about „Data Science“. You will learn what data science is\, how you come from data to data science\, about data science on the cloud\, and the use of data science in early R&D. There will be time for discussion and questions\, too. \n\n\n\nProgramme:15:30   Introduction to wega AG15:50   What is Data Science?16:15   Data Science on the Cloud16:35   Use of Data Science in early R&D17:00   Q&A / Round Tables in break rooms \n\n\n\nDetailed programme for download. \n\n\n\n\n\n\n\nJoin this free workshop and register HERE! \n\n\n\n\n\n\n\nWe thank our media partner q&more.
URL:https://bio-pat.org/event/data-science
LOCATION:Venue: Online
ATTACH;FMTTYPE=image/png:https://bio-pat.org/wp-content/uploads/2022/04/Flyer-online-WS-Data-Science_Wega.png
ORGANIZER;CN="Organizer%3A%20Bio-PAT%20e.V.":MAILTO:info@bio-pat.org
END:VEVENT
BEGIN:VEVENT
DTSTART;TZID=Europe/Paris:20220608T000000
DTEND;TZID=Europe/Paris:20220610T235959
DTSTAMP:20260423T141926
CREATED:20220426T065644Z
LAST-MODIFIED:20220426T072510Z
UID:6111-1654646400-1654905599@bio-pat.org
SUMMARY:BlueSens auf dem Workshop "BioProcessingFactory 4.0"
DESCRIPTION:RWTH Aachen – Institut für Angewandte MikrobiologieProf. Lars Blank\n\n\n\nBioProcessingFactory 4.0″ – Vernetzte\, Datengetriebene Bioprozess-Workflow-Optimierung.  \n\n\n\nIm Rahmen der Veranstaltung werden führende Unternehmen und akademische Wissenschaft in einer modernen Fermentationsumgebung (FERM-FACTORY der RWTH Aachen) zusammengeführt. In diesem Workshop-Seminar erleben Sie nicht nur mordernstes Equipment und innovative analytische Methoden\, sondern lernen auch ein gesamtheitliches Konzept der Prozessindustrie kennen. Versuchen Sie sich selbst an den verschiedenen Tools\, die wir in unserem Applikationszentrum für Sie bereitstellen und folgen Sie dem exemplarischen Workflow! \n\n\n\nLernen Sie nicht nur\, wie Sie Ihren Produktionsablauf optimieren können\, sondern auch\, wie Sie Ihre Daten verwalten und auswerten können\, um so Risiken im Vorfeld zu minimieren! Durch eine schrittweise Vernetzung werden Fermentationsprozesse schneller\, robuster und kompatibler: der Arbeitsablauf wird so optimiert. Aufgrund der hohen Anzahl an kooperierenden Unternehmen schafft die FERM-FACTORY einen einmaligen Rahmen\, in dem die Herausforderungen des Zukunftslabors in der Prozessindustrie aus unterschiedlichen Blickwinkeln beleuchtet werden. \n\n\n\n \n\n\n\n\n\n\n\nDie BlueSens gas sensor GmbH wird einen Teil des Workshops durchführen: \n\n\n\nWorkshop-Themen: \n\n\n\naquila biolabs    Digitally Simplified Bioprocessing – Nicht-invasive Sensorik und Fütterung im SchüttelkolbenEppendorf SEIntegration externer Mess- und Regeltechnik in ein Bioreaktorsystem von EppendorfPlato AGQualitäts- und Risikomanagement in der Prozess-IndustrieBlueSensAbgasanalyse zur Optimierung von BioprozessenHamiltonThe truth is in there! Hamiltons Inline-Online-Sensoren für die BioprozessentwicklungBeckman Coulter GmbHParallelisierte ProzessentwicklungVIRTUAL SENSORSBioprocessing 4.0 – Hybride Modelle für digitale Zwillinge in der Biotechnologie4BioCellAssaygestützte Bioprozesskontrolle durch photometrische AnalyserShimadzu Deutschland GmbHMassenspektrometrische Analyse von Zellkulturmedien \n\n\n\n\n\n\n\nAnmeldung
URL:https://bio-pat.org/event/bluesens-auf-dem-workshop-bioprocessingfactory-4-0
LOCATION:Venue: RWTH Aachen –<strong>ABBt – Aachen Biology and Biotechnology<br>Institut für Angewandte Mikrobiologie</strong>\, Worringer Weg 1\, Aachen\, 52056
ATTACH;FMTTYPE=image/jpeg:https://bio-pat.org/wp-content/uploads/2021/09/Logo_DECHEMA.jpg
ORGANIZER;CN="Organisiert%20von%3A%20DECHEMA%20e.V.":MAILTO:nicola.gruss@dechema.de
END:VEVENT
BEGIN:VEVENT
DTSTART;TZID=Europe/Paris:20220608T150000
DTEND;TZID=Europe/Paris:20220608T170000
DTSTAMP:20260423T141926
CREATED:20220528T192505Z
LAST-MODIFIED:20220608T084329Z
UID:6260-1654700400-1654707600@bio-pat.org
SUMMARY:CANCELLED!! KIWI-biolab Talk: Computational methods to model complex bioprocess for ethanol 2G
DESCRIPTION:In the series of the KIWI-biolab talks\, Aldo Vecchietti will talk on June 8\, 2022 at 15:00h about „computational methods to model complex bioprocess for ethanol 2G„. \n\n\n\nProf. Vecchietti leads the Instituto de Desarrollo y Diseno (INGAR)\, an institute associated to the National Scientific and Technical Research Council in Argentina (CONICET). Some of his work is presented on research gate. \n\n\n\nSecond generation bioethanol (2G) obtained from the agricultural and forest industries residues presents a large interest\, because of tis availability and low cost. Besides of reducing the GHG emissions\, they do not compete with food production and avoid eutrophication of watercourses and soil erosion. The 2G ethanol production process has made great progress in recent decades due to the enzymatic hydrolysis (EH) stage of lignocellulosic materials\, which allowed to obtain better yields to evolve to an industrial scale. These advances were possible because of the increase in the enzymatic conversion (EC) yield. However\, the mechanisms by which this process occurs are only superficially understood\, due in part to the large number of reactions and enzymes involved. To study the process\, it is necessary to have computational models to predict its behavior. We are proposing two computational models to represent the enzymatic conversion such that they can be used for the simulation and optimization of the whole 2G ethanol process production. The first one is based on fuzzy logic techniques while in the second one Artificial Neural Networks are employed. \n\n\n\nJoin the talk by this ZOOM-Link.
URL:https://bio-pat.org/event/kiwi-biolab-talk-computational-methods-to-model-complex-bioprocess-for-ethanol-2g
LOCATION:Venue: Online
ATTACH;FMTTYPE=image/jpeg:https://bio-pat.org/wp-content/uploads/2021/10/Logo-KIWI.jpg
ORGANIZER;CN="Organizer%3A%20KIWI-biolab":MAILTO:marta.gonzalezgomez@campus.tu-berlin.de
END:VEVENT
BEGIN:VEVENT
DTSTART;TZID=Europe/Paris:20220612T120000
DTEND;TZID=Europe/Paris:20220614T210000
DTSTAMP:20260423T141926
CREATED:20220525T173100Z
LAST-MODIFIED:20220525T173104Z
UID:6254-1655035200-1655240400@bio-pat.org
SUMMARY:Bangkok Brewing Conference 2022 - VLB
DESCRIPTION:The Brewing Conference 2022 is jointly organized by the Thailand  Beer Industry Guild (TBIG) and the VLB Berlin. \n\n\n\nThe headline for this year is Odyssey 2022: Neutrality towards Net Zero for the Brewing Industry  \n\n\n\nProgramme:Sunday\, 12 June 202212:00 – 13:00: Registration  for the technical visit at the BITEC Bangna13:15:  Departure of busses to Thai Spirit Industry Co. Ltd (limited capacity) about 18:00: Return to BITECMonday\, 13 June 2022Conference at the BITEC: Programme to be announce soonEvening Event: Welcome party at the Jim Thompson House Museum\, Bangkok)Tuesday\, 14 June 2022Conference at the BITEC: Programme to be announce soonClosing event at the BITEC \n\n\n\nRegistration Fees:Full delegate from breweries\, bottlers\, soft drink/juice/beverage industry:Early booking (until 31 May 2022): 3000 THB/100 €from 1 June 2022: 4500 THB/120 €Full delegate from supply industry\, consultants\, others:Early booking (until 31 May 2022): 11\,600 THB/300 €from 1 June 2022: 13\,300 THB/350 € \n\n\n\nProgramme (PDF)Review: Bangkok Brewing Conference 2007 – 2019 (pdf) \n\n\n\nRegistration
URL:https://bio-pat.org/event/bangkok-brewing-conference-2022-vlb
LOCATION:Venue: Bangkok International Trade & Exhibition Centre (BITEC)\, 88 Debaratna Rd\, Bang Na\, Bangkok\, 10260\, Thailand
ATTACH;FMTTYPE=image/jpeg:https://bio-pat.org/wp-content/uploads/2021/11/VLB-quer.jpg
END:VEVENT
BEGIN:VEVENT
DTSTART;TZID=Europe/Paris:20220621T090000
DTEND;TZID=Europe/Paris:20220624T160000
DTSTAMP:20260423T141926
CREATED:20220405T164110Z
LAST-MODIFIED:20220620T153839Z
UID:5897-1655802000-1656086400@bio-pat.org
SUMMARY:Bio-PAT\, KNAUER und OSPIN auf der analytica
DESCRIPTION:Die analytica ist die Weltleitmesse für Labortechnik\, Analytik\, Biotechnologie und analytica conference. \n\n\n\nSeit 50 Jahren steht die analytica für höchste Qualität und Fachkompetenz. Die Weltleitmesse für Labortechnik\, Instrumentelle Analytik und Biotechnologie und ihre begleitende renommierte analytica conference vernetzen maßgebliche Experten aus Forschung\, Wissenschaft und Industrie an einem Ort. Die analytica ist damit der wichtigste Treffpunkt und Impulsgeber der Branche. \n\n\n\nDas Netzwerk Bio-PAT\, die KNAUER Wissenschaftliche Geräte GmbH und die OSPIN GmbH werden auch auf der analytica ausstellen. \n\n\n\n\n\n\n\n\n\n\n\nSie finden KNAUER in Halle A 2 (A2.303). Seien Sie gespannt auf neue Produkte\, wie eine neuen Liquid-Handler für die präparative HPLC oder den IJM NanoScaler.  \n\n\n\nWenn Sie ein analytica Frei-Ticket erhalten möchten\, dann sichern Sie sich einen Termin bei KNAUER! –> Zur Registrierung / zum Frei-Ticket. Sie können auch einen Termin vorab mit einem Experten / einer Expertin bei Knauer buchen: Zum Expertengespräch. \n\n\n\n\n\n\n\nOspin stellt sein neuestes Produkt\, die Hei-Process Cloud auf dem Stand der Heidolph-Instruments GmbH & Co. KG\, B2.329 aus. \n\n\n\nBio-PAT wird auf dem Gemeinschaftstand der TU Berlin (A3.322) das Netzwerk und seine Mitglieder vorstellen. \n\n\n\n\n\n\n\nWas bietet die analytica \n\n\n\nVollständiger Marktüberblick für die LaborweltFünf Messehallen voller Know-how: Die analytica präsentiert Ihnen innovative Produkte\, Systeme\, Komponenten und Anwendungen für die gesamte Wertschöpfungskette des Labors in Industrie und Forschung. Hier finden Sie sicher die richtige Lösung für Ihren Bedarf.Alle wichtigen Marktführer direkt vor OrtAuf der analytica versammeln sich die Global Player der Branche. Nur hier treffen Sie die Marktführer\, Wissenschaftler und Experten in konzentrierter Präsenz. Profitieren Sie von diesem leistungsstarken Netzwerk und knüpfen Sie Kontakte auf globalem Niveau.WeltleitmesseMit rund 1.200 Ausstellern\, 36.000 Besuchern und 55.000 Quadratmetern Fläche ist die analytica weltweit die größte Messe für die Bereiche Analytik\, Labortechnik und Biotechnologie. 50\,4 Prozent unserer Aussteller und 40 Prozent unserer Besucher kommen aus dem Ausland.Weltneuheiten und MessehighlightsNamhafte Aussteller präsentieren auf der Messe ihre Weltneuheiten erstmals dem Fachpublikum. Zudem können Besucher einen Blick auf zahlreiche Produkthighlights der Aussteller werfen.Gipfeltreffen für Wissenschaft und ForschungAuf der renommierten analytica conference präsentiert Ihnen die wissenschaftliche Top-Elite neueste Ergebnisse der Analytik in allen Anwendungsbereichen. Diskutieren Sie mit internationalen Forschern über aktuelle Entwicklungen und faszinierende Zukunftsperspektiven.Beständige FührungspositionDie analytica findet bereits seit 1968 im zweijährigen Turnus statt. Ihre Führungsposition als Weltleitmesse behauptet sie auch im globalen Wettbewerb souverän – und baut sie kontinuierlich aus. \n\n\n\n\n\n\n\nDaten und FaktenBranchen & ThemenAusstellerverzeichnisProgramm analytica conference
URL:https://bio-pat.org/event/bio-pat-und-knauer-auf-der-analytica
LOCATION:Venue: Messegelände München\, Am Messesee (Messe München Eingang West)\, München\, 81823\, Deutschland
ATTACH;FMTTYPE=image/jpeg:https://bio-pat.org/wp-content/uploads/2022/04/Logo_analytica_logo_cropped_600.jpg
END:VEVENT
BEGIN:VEVENT
DTSTART;TZID=Europe/Paris:20220626T090000
DTEND;TZID=Europe/Paris:20220629T180000
DTSTAMP:20260423T141926
CREATED:20220627T092548Z
LAST-MODIFIED:20220627T092550Z
UID:6301-1656234000-1656525600@bio-pat.org
SUMMARY:Celltainer on the 27th ESACT Meeting “Advanced Cell Technologies: Making Protein\, Cell\, and Gene Therapies a Reality”
DESCRIPTION:BIONET and Celltainer Biotech will be present at the ESACT – European Society for Animal Cell Technology Meeting 2022 to show the first result of their collaboration: The bench top CELL-tainer CT20 is dedicated for cell culture\, including the ability to use our expansion set for n-3 seeding.Soon\, the the Rosita 2.0 bioprocess software will be launched as well. \n\n\n\nVisit their booth 78 at the ESACT to dicsuss with them and get your questions answered. \n\n\n\nThe ESACT Society was founded in 1976 to create a forum for the exchange of ideas on biology\, biotechnology and engineering. With the purpose of gathering knowledge on the use of human and animal cells for manufacturing of biopharmaceuticals\, vaccines and advanced therapies\, ESACT also promotes training and education in these fields. \n\n\n\nProgrammeExhibitors
URL:https://bio-pat.org/event/celltainer-on-the-27th-esact-meeting-advanced-cell-technologies-making-protein-cell-and-gene-therapies-a-reality
LOCATION:Venue: Lisbon Congress Centre\, Praça das Indústrias 1\, Lissabon\, 1300-307\, Portugal
ATTACH;FMTTYPE=image/jpeg:https://bio-pat.org/wp-content/uploads/2022/06/Course-Banners-ESACT-meeting2022.jpg
END:VEVENT
BEGIN:VEVENT
DTSTART;TZID=Europe/Paris:20220628T000000
DTEND;TZID=Europe/Paris:20220630T235959
DTSTAMP:20260423T141926
CREATED:20220417T093815Z
LAST-MODIFIED:20220417T094056Z
UID:6039-1656374400-1656633599@bio-pat.org
SUMMARY:VLB Fachtagung Getränkeverpackung und Ladungssicherung 2022
DESCRIPTION:Die VLB-Fachtagung Getränkeverpackung und Ladungssicherung (GeLa) beschäftigt sich mit den verschiedenen Verpackungsprozessen von Getränken und deren Sicherung beim Transport. Die Themen reichen von der Primärverpackung\, über die Sekundärverpackung und Transportverpackung\, deren Einflüsse auf die Stabilität der Ladeeinheit sowie Einsatz zusätzlicher Ladungssicherungshilfsmittel. \n\n\n\nIn Vorträgen wird auf einzelne Packmittel\, Verpackungsprozesse und Ladungssicherungshilfsmittel eingegangen\, in dem praktischen Teil werden Fahrversuche mit verschiedenen Ladeeinheiten durchgeführt. Zielsetzung ist eine Entwicklung von nachhaltigen Verpackungslösungen\, bei denen Design und Sicherheit im Einklang sind. Berichte aus der Praxis geben Einblick für Lösungsansätze. \n\n\n\nGeplante Themen \n\n\n\nUnterstände bei LadeeinheitenTransport von Getränkedosen (Transportschäden/Lastverteilung)Vergleich Stretchfolie mit und ohne RecyclatEtiketten und Kartonagen mit Recyclinganteilen Papierbasierte Multipack-LösungenTethered Caps\n\n\n\nInfos Anfordern
URL:https://bio-pat.org/event/vlb-fachtagung-getraenkeverpackung-und-ladungssicherung-2022
LOCATION:Venue: VLB Berlin\, Seestr. 13\, Berlin\, 13353\, Deutschland
ATTACH;FMTTYPE=image/jpeg:https://bio-pat.org/wp-content/uploads/2021/11/VLB-quer.jpg
END:VEVENT
BEGIN:VEVENT
DTSTART;TZID=Europe/Paris:20220628T110000
DTEND;TZID=Europe/Paris:20220628T120000
DTSTAMP:20260423T141926
CREATED:20220627T084418Z
LAST-MODIFIED:20220628T193213Z
UID:6294-1656414000-1656417600@bio-pat.org
SUMMARY:SOPAT Webinar: Inline measurements in the production of novel drug delivery systems – Microspheres
DESCRIPTION:The SOPAT GmbH is giving a webinar on „Inline measurements in the production of novel drug delivery systems – Microspheres„The production process for microspheres is very complex\, with particle size distribution being critical and an important factor in efficiency\, release rates\, etc. With the photo optical technology of SOPAT promising results were achieved in this application.  \n\n\n\nParticipation is free of charge.Registration
URL:https://bio-pat.org/event/sopat-webinar-%f0%9d%97%9c%f0%9d%97%bb%f0%9d%97%b9%f0%9d%97%b6%f0%9d%97%bb%f0%9d%97%b2-%f0%9d%97%ba%f0%9d%97%b2%f0%9d%97%ae%f0%9d%98%80%f0%9d%98%82%f0%9d%97%bf%f0%9d%97%b2%f0%9d%97%ba%f0%9d%97%b2
LOCATION:Venue: Online
ATTACH;FMTTYPE=image/png:https://bio-pat.org/wp-content/uploads/2022/06/SOPAT-Webinar.png
END:VEVENT
BEGIN:VEVENT
DTSTART;TZID=UTC:20220629T083000
DTEND;TZID=UTC:20220701T160000
DTSTAMP:20260423T141926
CREATED:20200511T103115Z
LAST-MODIFIED:20220228T174438Z
UID:2575-1656491400-1656691200@bio-pat.org
SUMMARY:Pronova Analysentechnik GmbH & Co. KG auf der ÖGA
DESCRIPTION:Die Veranstaltung wurde wegen COVID-19 vom 24.-26.06.2020 auf den 29.06.-01.07.2022 verschoben.  \n\n\n\nDie ÖGA ist die grösste Fachmesse der Grünen Branche in der Schweiz. Die  Fachmesse in Oeschberg/Koppigen bietet mit über 430 Ausstellern auf  einer Fläche von 12 ha ein umfassendes Angebot an Geräten\, Maschinen\,  Sämereien\, Jung- und Fertigpflanzen für: \n\n\n\nBaumschulenBau- und BodenbearbeitungsmaschinenEndverkaufBedarfsartikelFloristikBeton-\, Stein- und HolzelementeFriedhöfeEDV/FachbücherGartencenterErde\, Dünger\, PflanzenschutzGarten-Landschaftsbau / -PlanungGewächshäuser\, InneneinrichtungenGemüsebauKleingeräte/MaschinenObst/BeerenbauObstbau- und GemüsebaumaschinenÖffentliches Grün / KommunalbereichPflanzenZierpflanzenbauRasenpflege\n\n\n\nDie Pronova Analysentechnik GmbH & Co. KG wird ebenso auf der ÖGA mit einem Stand vertreten sein. (Sektor/St.Nr. 5.1/130) \n\n\n\nAusstellerverzeichnisInformationen für BesucherInformationen für AusstellerRegistrierung für Aussteller
URL:https://bio-pat.org/event/pronova-analysentechnik-gmbh-co-kg-oega
LOCATION:Venue: ÖGA\, Bern-Zürich-Strasse 18\, Koppigen\, 3425\, Schweiz
ATTACH;FMTTYPE=image/jpeg:https://bio-pat.org/wp-content/uploads/2020/05/LG-Oega_200x200@2x.jpg
ORGANIZER;CN="Organizer%3A%20%C3%96GA%20Messesekretariat":MAILTO:info@oega.ch
END:VEVENT
END:VCALENDAR