BEGIN:VCALENDAR
VERSION:2.0
PRODID:-//Bio-PAT - ECPv5.3.2.1//NONSGML v1.0//EN
CALSCALE:GREGORIAN
METHOD:PUBLISH
X-WR-CALNAME:Bio-PAT
X-ORIGINAL-URL:https://bio-pat.org
X-WR-CALDESC:Veranstaltungen für Bio-PAT
BEGIN:VTIMEZONE
TZID:Europe/Paris
BEGIN:DAYLIGHT
TZOFFSETFROM:+0100
TZOFFSETTO:+0200
TZNAME:CEST
DTSTART:20220327T010000
END:DAYLIGHT
BEGIN:STANDARD
TZOFFSETFROM:+0200
TZOFFSETTO:+0100
TZNAME:CET
DTSTART:20221030T010000
END:STANDARD
END:VTIMEZONE
BEGIN:VEVENT
DTSTART;TZID=Europe/Paris:20220804T080000
DTEND;TZID=Europe/Paris:20220806T170000
DTSTAMP:20260421T151151
CREATED:20220725T084228Z
LAST-MODIFIED:20220725T100756Z
UID:6428-1659600000-1659805200@bio-pat.org
SUMMARY:Knick auf der 17. EverythingAboutWater Expo in Neu Dehli (IN)
DESCRIPTION:The EverythingAboutWaterExpo is one of the most unique & comprehensive annual events in India showcasing the latest technologies & solutions in the water sector. Also\, recognized as South Asia’s largest water expo event during recent times\, this is a perfect gateway for stakeholders from across the globe to penetrate into the vast & dynamic ecosystem of the Indian Water & Waste management industry to share business opportunities\, network & explore innovative solutions. \n\n\n\nWith increasing consumption of water in agriculture and potable areas\, India is expected to be severe water stressed by 2025. Rapid industrialization and growing population have widened the water demand-supply gap for which both the Central and State governments are deeply concerned. Under this umbrella\, the 17th EverythingAboutWater Expo 2022 will offer unparalleled business opportunities to both national as well as international players from the water industry to learn\, explore the future trends in the Indian water market. \n\n\n\nKnick Elektronische Messgeräte GmbH & Co. KG will also be present in Hall 7. Visit them to learn more about their products and services in the water sector. \n\n\n\nEXPO HIGHLIGHTS \n\n\n\nSOUTH ASIA’S LARGEST WATER & WASTE WATER EVENTOVER 50\,000 SQ FT OF EXHIBITION SPACEEXCLUSIVE COUNTRY PAVILIONS FROM USA\, CANADA\, TAIWAN\, UK & NETHERLANDSPRESENCE OF LEADING WATER COMPANIES FROM ACROSS THE GLOBE3 DAYS INTERNATIONAL CONFERENCE ON WATER & WASTE WATER MANAGEMENT\n\n\n\n5 REASONS WHY YOU MUST EXHIBIT \n\n\n\nAs the event will be witnessing a large footfall of companies and government institutions who plan to invest significantly in building small to large projects\, there is a huge opportunity for you to exhibit. \n\n\n\nPerfect platform to introduce your technologies and productsNetwork with industry leaders\, policy/decision makers and visitors at the eventUnparalleled opportunity to connect with your target audienceGet exclusive customer and market feedbackBuild relevant database and generate sales leads\n\n\n\nBENEFITS \n\n\n\nPosition your company as a market leaderIdentify the trends and issues that will shape the future of your businessGain unparalleled access and exposure to your target marketFind out potential opportunities to create a road-map for your sustainable growth & developmentA chance to network with water& environment professionals from across the globe under one roofOpportunity to tap new clientsProvide positive brand alignment to your products\, and promote your company imageGain access to industry leaders\, policy/decision makers\, and visitors attending the eventGet a chance to network with international water & environment companies under their respective country pavilionBuild prospective databases and generate sales leads\n\n\n\nProgrammeFloor PlanBrochure for DownloadDelegate Registration Form
URL:https://bio-pat.org/event/knick-auf-der-17-everythingaboutwater-expo-in-neu-dehli-in
LOCATION:Venue: Pragati Maidan\, Mathura Road\, Neu Dehli\, Indien
ATTACH;FMTTYPE=image/jpeg:https://bio-pat.org/wp-content/uploads/2022/07/cropped-Expo-Logo-1.jpg
END:VEVENT
BEGIN:VEVENT
DTSTART;TZID=Europe/Paris:20220807T080000
DTEND;TZID=Europe/Paris:20220810T163000
DTSTAMP:20260421T151151
CREATED:20220715T102741Z
LAST-MODIFIED:20220809T065723Z
UID:6374-1659859200-1660149000@bio-pat.org
SUMMARY:BlueSens auf dem SIMB Annual Meeting
DESCRIPTION:On Sunday afternoon Dr. Jay Keasling\, the CEO of the Joint BioEnergy Institute and Professor of Chemical & Biomolecular Engineering at UC Berkeley\, will give a keynote presentation. Also a Science Slam session will take place that features “rapid-fire” style presentations from students\, postdocs\, and young investigators. \n\n\n\nThe technical program includes the five SIMB focus areas of Biocatalysis\, Environmental Microbiology\, Fermentation & Cell Culture\, Natural Products\, and Metabolic Engineering. The program committee has been very active in establishing a robust\, cutting-edge scientific program around these areas to highlight both recent industrial successes and emerging research advances in our field. Three timely special sessions are planned: “Animal Products from Fermentation & Synthetic Biology”\, “Decreasing the Time and Capitol for a DBTL Cycle”\, and “Microbial (and Cell Free) Engineering of Protein Secretion”. Also a student session and a diversity session will be hosted.In addition to the technical program\, poster sessions\, an annual banquet\, and the 5K run will be organized\, traditional highlights of the conference. \n\n\n\nThe BlueSens gas sensor GmbH will also attend. Meet CEO Holger Müller and Vice President Commercial and Technical Operations James Hope and learn all about optimizing your bioprocesses with the BlueSens technology. Visit them at booth 24! \n\n\n\nProgramme \n\n\n\nWorkshops:Fermentation Basics Workshop –> InfoIntroduction to Design of Experiments (DoE) for Bioprocess Analysis and Optimization Workshop –> InfoThe BioCyc.org Microbial Genome Web Portal Workshop –> Info \n\n\n\nRegistration
URL:https://bio-pat.org/event/bluesens-auf-dem-simb-annual-meeting
LOCATION:Venue: Hyatt Regency\, 5 Embarcadero Center\, San Francisco\, 94111\, Vereinigte Staaten
ATTACH;FMTTYPE=image/png:https://bio-pat.org/wp-content/uploads/2022/07/SIMB-1.png
END:VEVENT
BEGIN:VEVENT
DTSTART;TZID=Europe/Paris:20220811T110000
DTEND;TZID=Europe/Paris:20220811T120000
DTSTAMP:20260421T151151
CREATED:20220808T091508Z
LAST-MODIFIED:20220808T091511Z
UID:6539-1660215600-1660219200@bio-pat.org
SUMMARY:BlueSens Webinar: "The use of BlueSens products in the Novel Food sector"
DESCRIPTION:The BlueSens gas sensor GmbH\, a member of the Bio-PAT network offers a webinar in English on „The use of BlueSens products in the Novel Food sector„. The webinar is part of the series „We love science“. \n\n\n\nKirsten Knobel from The Protein Brewery will show – among other things – why off-gas analysis is an important tool for her\, while Ian Maynard from Enough Food will talk about „Novel Food Fermentations – A Perspective“. \n\n\n\nLanguage: EnglishDuration: app. 60 minutesAn invitation link (webex) will be sent to you immediately after registration.
URL:https://bio-pat.org/event/bluesens-webinar-the-use-of-bluesens-products-in-the-novel-food-sector
LOCATION:Venue: Online
ATTACH;FMTTYPE=image/jpeg:https://bio-pat.org/wp-content/uploads/2022/08/1659359404089.jpg
END:VEVENT
BEGIN:VEVENT
DTSTART;TZID=Europe/Paris:20220816T090000
DTEND;TZID=Europe/Paris:20220819T170000
DTSTAMP:20260421T151151
CREATED:20220725T090011Z
LAST-MODIFIED:20220725T094410Z
UID:6413-1660640400-1660928400@bio-pat.org
SUMMARY:Knick auf der Automation Expo in Mumbai (IN)
DESCRIPTION:Automation in today’s world has become omnipresent for almost every person living on this planet. Be it the simplest of Automation machines\, we are surrounded by this rapid advancement in technology. Automation Expo has been leveraging this advancement by providing a one-of-its-kind platform where you can witness technological advancements in the fields of factory automation\, turnkey solutions\, field instrumentation\, robotics and many more\, all under one roof. The Automation Expo 2022 will introduce two zones that is the Building Automation Zone and Emission Monitoring Zone to showcase new technologies in this  sector. As Climate change is a major issue that we are facing \, the  exhibitors will display  technologies for a cleaner and greener earth.​This global exhibition has its doors open to practically anyone who wishes to learn more about Automation and its latest innovations exhibited by global Automation leaders. \n\n\n\nKnick Elektronische Messgeräte GmbH & Co. KG will also be present. Visit them to learn more about their products and services. \n\n\n\nEventsConfernce on IoTConference on building automationConference on environment protectionRegistration
URL:https://bio-pat.org/event/knick-auf-der-automation-expo-in-mumbai-in
LOCATION:Venue: Bombay Exhibition Centre\, NESCO\, Goregaon\, Mumbai\, Maharashtra\, 400063\, Indien
ATTACH;FMTTYPE=image/jpeg:https://bio-pat.org/wp-content/uploads/2022/07/Automation-Expo.jpg
END:VEVENT
BEGIN:VEVENT
DTSTART;TZID=Europe/Paris:20220822T080000
DTEND;TZID=Europe/Paris:20220826T170000
DTSTAMP:20260421T151151
CREATED:20210211T143544Z
LAST-MODIFIED:20220818T092651Z
UID:4008-1661155200-1661533200@bio-pat.org
SUMMARY:ACHEMA 2022 mit Bio-PAT\, BVT/TU Berlin\, BlueSens\, KNAUER\, Knick\, Pronova\, SOPAT
DESCRIPTION:Die ACHEMA – Weltforum und Internationale Leitmesse der Prozessindustrie. \n\n\n\n\n\n\n\nFokusthemen: \n\n\n\nThe Digital Lab\n\n\n\nProduct and Process Security\n\n\n\nModular and Connected Production\n\n\n\n\n\n\n\nAuf der ACHEMA präsentieren Hersteller und Dienstleister aus über 50 Ländern Produkte für Chemie\, Pharma\, Biotechnologie\, Energie und Umwelt. \n\n\n\n\n\n\n\nBio-PAT wird auch auf der ACHEMA vertreten sein ebenso wie folgende Bio-PAT Netzwerkmitglieder\, die über ihre Produkte und Dienstleistungen beraten:Fachgebiet der Bioverfahrenstechnik & Bio-PAT: Halle 6.0\, Stand A35Smart Bioproduction Grids\, Prozessanalytische Technologien (PAT)\, Hochdurchsatzlabor und Lab of the Future „KIWI-biolab„BlueSens gas sensor GmbH: Halle 4.1\, Stand E26 (Labor und Analysentechnik): Gasanalysatoren\, Geräte zur Gasvolumenmessung und komplette Analysesysteme für verschiedene Anwendungen; BlueVis Software zur Anbindung verschiedener Geräte an einen Prozess („Use what you have“)KNAUER Wissenschaftliche Geräte GmbH: Halle 4.1\, Stand H8 (Labor und Analysentechnik)Geräte und Dienstleistungen rund um die Chromatographie\, Liquid Handler\, Geräte zur Herstellung von Lipid-Nanopartikeln\, Dosierpumpen und mehrKnick Elektronische Messgeräte GmbH & Co. KG: Halle 11.1 Stand A45 (Mess-\, Regel- und Prozessleittechnik):Prozessanalytik\, Industrielle Interfacetechnik\, Messtechnik und Sensoren für den LaborbedarfPronova Analysentechnik GmbH & Co. KG: Halle 11.1\, Stand C1 (Mess-\, Regel- und Prozessleittechnik): Analysatoren\, Sensoren\, Analysensysteme\, Komponenten der Biogasanalyse\, Gasanalyse und GaswarntechnikSOPAT GmbH: Halle 11.1\, Stand E25 (Mess-\, Regel- und Prozessleittechnik): in-line Mikroskopie\, Partikelmess- und Partikelanalyse-Technik\, Software zur BildanalyseVorträge der SOPAT GmbH:– 25.8.2022\, 10:30 – 11:00\, H11.0 – Garnet: „Evaluation of an in-line particle characterization method for slurries in battery production“– 25.8.2022\, 12:00 – 12:30\, H11.0 – Garnet: „Do’s\, dont’s and have to’s in the use of image analysis tools to record bubble size distribution in highly concentrated dispersions“:– 26.8.2022\, 12:45 – 13:15\, H4.1 – Aktionsfläche Digital Lab: „Inline microscopy for multidimensional particle characterization in bioprocess monitoring“ \n\n\n\n\n\n\n\nFokusthemenInformationen für BesucherAktuelle AusstellerAnmeldung als Aussteller
URL:https://bio-pat.org/event/achema-2022
LOCATION:Venue: Gelände der Messe Frankfurt GmbH\, Ludwig-Erhard-Anlage 1\, Frankfurt am Main\, 60327\, Deutschland
ATTACH;FMTTYPE=image/jpeg:https://bio-pat.org/wp-content/uploads/2021/02/logo-Achema-2021.jpg
ORGANIZER;CN="Organizer%3A%20Dechema%20Ausstellungs-GmbH%20%26amp%3B%20DECHEMA%20e.V.%20%E2%80%93%20Gesellschaft%20f%C3%BCr%20Chemische%20Technik%20und%20Biotechnologie%20e.V.":MAILTO:exhibition@dechema.de
END:VEVENT
BEGIN:VEVENT
DTSTART;TZID=Europe/Paris:20220830T130000
DTEND;TZID=Europe/Paris:20220901T163000
DTSTAMP:20260421T151151
CREATED:20210908T094408Z
LAST-MODIFIED:20220725T104025Z
UID:6473-1661864400-1662049800@bio-pat.org
SUMMARY:2 nd VLB Packaging Conference
DESCRIPTION:Packaging of Beer and Beverages \n\n\n\nWhat are the current trends? What will be next? Further\, who drives the marked changes and customer demand?These are some of the questions\, that will be discussed on our second international VLB Packaging Conference (VPC)\, taking place from Aug 30 to Sep 1\, 2022\, ONLINE at our VLB Virtual Campus. \n\n\n\nHot Topics: Sustainability and Digitalization \n\n\n\nWe will talk about new products like cardboard multipacks\, returnable crates made from alternative plastic and smart packaging. Moreover\, we talk about digital printing on cans and the use of tethered caps. Experts from the brewing industry will share their experiences with the use of PET kegs. In addition\, we will have a dialog about the use of recycled PET (rPET) for beverage containers. \n\n\n\nChallenge Glass Shortage – What are the Options? \n\n\n\nCurrently the European market is faced with the problem of glass shortage and increasing cost for bottles. As a result\, many beverage and food producers are focusing on new returnable systems and close loop innovations. On our virtual conference new ideas and practical solutions will be discussed. We are in the unique position to talk to industry experts in the beverage industry through our multi-approach in research\, lecturing\, consulting of craft-; industrial brewers\, beverage producers and anchor bottlers. \n\n\n\nRegistration
URL:https://bio-pat.org/event/vlb-packaging-conference-2
LOCATION:Venue: Virtual Campus
ATTACH;FMTTYPE=image/png:https://bio-pat.org/wp-content/uploads/2019/08/VLB-quer-WS.png
ORGANIZER;CN="Organizer%3A%20VLB%20Berlin":MAILTO:hendel@vlb-berlin.org
END:VEVENT
END:VCALENDAR