BEGIN:VCALENDAR
VERSION:2.0
PRODID:-//Bio-PAT - ECPv5.3.2.1//NONSGML v1.0//EN
CALSCALE:GREGORIAN
METHOD:PUBLISH
X-WR-CALNAME:Bio-PAT
X-ORIGINAL-URL:https://bio-pat.org
X-WR-CALDESC:Veranstaltungen für Bio-PAT
BEGIN:VTIMEZONE
TZID:Europe/Paris
BEGIN:DAYLIGHT
TZOFFSETFROM:+0100
TZOFFSETTO:+0200
TZNAME:CEST
DTSTART:20220327T010000
END:DAYLIGHT
BEGIN:STANDARD
TZOFFSETFROM:+0200
TZOFFSETTO:+0100
TZNAME:CET
DTSTART:20221030T010000
END:STANDARD
END:VTIMEZONE
BEGIN:VEVENT
DTSTART;TZID=Europe/Paris:20220926T080000
DTEND;TZID=Europe/Paris:20220928T140000
DTSTAMP:20260421T123537
CREATED:20220712T103729Z
LAST-MODIFIED:20220926T061245Z
UID:6359-1664179200-1664373600@bio-pat.org
SUMMARY:SOPAT auf dem Multiscale Multiphase Symposium
DESCRIPTION:SOPAT auf dem Multiscale Multiphase Symposium \n\n\n\nDas „4th International Symposium on Multiscale Multiphase Process Engineerin\, MMPE“ findet in Berlin statt. Die SOPAT GmbH wird als Sponsor und Aussteller auftreten. \n\n\n\nDas Bio-PAT Mitglied SOPAT ist Experte in inline-Partikelanalyse. Das Unternehmen entwickelt und vertreibt Bild-basierte\, photo-optische Mess- und Analyse-Techniken\, die eine quantitative Charakterisierung von Partikeln in Multiphasensystemen in Echtzeit erlaubt. In Kombination mit der Hardware\, entwickelt und vertreibt SOPAT auch eine Software für die Echtzeit-Analyse der Partikelgrößen-Verteilung. Damit ist eine frühzeitige Detektion von Veränderungen im Prozess sowie eine effiziente Prozessoptimierung gewährleistet\, die sowohl zu Kosteneinsparung hinsichtlich Zeit- und Personalaufwand als auch zu einer gesteigerten Produktqualität führt. \n\n\n\nKonferenz-ProgrammRegistrierung
URL:https://bio-pat.org/event/sopat-auf-dem-multiscale-multiphase-symposium
LOCATION:Venue: HYPERION Hotel Berlin\, Prager Str. 12\, Berlin\, 10779\, Deutschland
ATTACH;FMTTYPE=image/jpeg:https://bio-pat.org/wp-content/uploads/2022/07/SOPAT-Multiscale-multiphase-Symposium.jpg
END:VEVENT
BEGIN:VEVENT
DTSTART;TZID=Europe/Paris:20220927T080000
DTEND;TZID=Europe/Paris:20220929T170000
DTSTAMP:20260421T123537
CREATED:20220725T104449Z
LAST-MODIFIED:20220921T093256Z
UID:6475-1664265600-1664470800@bio-pat.org
SUMMARY:3rd VLB Africa Brewing Conference
DESCRIPTION:The 3rd Africa Brewing Conference will be held online in September this year. Since the possibilities of mobility in Africa are still limited due to the pandemic\, the VLB Berlin considers this to be the best option for now. \n\n\n\n\n\n\n\nAfrica is a very important continent for the beer sector\, for this reason VLB organizes a conference dedicated to the particularities of this continent\, offering an extremely interesting program. The language is English\, the conference takes place at „VLB Virtual Campus“\, the VLB exclusive plattform for online events. \n\n\n\nThe Africa Brewing Conference will be accompanied by a virtual exhibition. \n\n\n\nSessions:– Raw Materials– Hops products & their impact on the brewing process / Innovations in the brewery– Hard seltzer– Packaging trends & filling technology / Water treatment \n\n\n\nProgrammeRegistration
URL:https://bio-pat.org/event/3rd-vlb-africa-brewing-conference
LOCATION:Venue: Online Event VLB Virtual Campus
ATTACH;FMTTYPE=image/jpeg:https://bio-pat.org/wp-content/uploads/2021/11/VLB-quer.jpg
END:VEVENT
BEGIN:VEVENT
DTSTART;TZID=Europe/Paris:20221005T090000
DTEND;TZID=Europe/Paris:20221007T170000
DTSTAMP:20260421T123537
CREATED:20220725T094854Z
LAST-MODIFIED:20220725T094855Z
UID:6451-1664960400-1665162000@bio-pat.org
SUMMARY:Knick auf der Indowater 2022 in Jakarta (IDN)
DESCRIPTION:Why should you visit the Indowater 2022 \n\n\n\nMake Personal Contact & Build NetworkAdvanced Product / Innovation PresentationMajor National & International PavilionForums\, Workshops and SeminarsFree Technical Product Presentation \n\n\n\nKnick Elektronische Messgeräte GmbH & Co. KG will also be present. Visit them to learn more about their products and services. \n\n\n\nInformation for visitorsInformation for exhibitors
URL:https://bio-pat.org/event/knick-auf-der-indowater-2022-in-jakarta-idn
LOCATION:Venue:  Balai Sidang Jakarta Convention Center\, Jl. Gatot Subroto No.1\, RT.1/RW.3\, Gelora\, Kecamatan Tanah Abang\, Kota Jakarta Pusat\, Daerah Khusus Ibukota\, Jakarta\, 10270\, Indonesien
ATTACH;FMTTYPE=image/png:https://bio-pat.org/wp-content/uploads/2022/07/logo_indowater.png
ORGANIZER;CN="Organizer%3A%20PT.%20NAPINDO%20MEDIA%20ASHATAMA":MAILTO:info@indowater.com
END:VEVENT
BEGIN:VEVENT
DTSTART;TZID=Europe/Paris:20221012T140000
DTEND;TZID=Europe/Paris:20221012T180000
DTSTAMP:20260421T123537
CREATED:20221005T084954Z
LAST-MODIFIED:20221005T085642Z
UID:6740-1665583200-1665597600@bio-pat.org
SUMMARY:7. Mitgliederversammlung des Bio-PAT e.V.
DESCRIPTION:Für die Mitglieder des Bio-PAT Netzwerks findet am 12.10.22 eine Mitgliederversammlung bei der Versuchs- und Lehranstalt für Brauerei in Berlin statt. Im Anschluss wird es eine Führung durch die Räumlichkeiten der VLB und ein Get Together zum Netzwerken geben. \n\n\n\n\n\n\n\nWir danken der VLB sehr für die Unterstützung!
URL:https://bio-pat.org/event/7-mitgliederversammlung-des-bio-pat-e-v
LOCATION:Venue: VLB Berlin\, Seestr. 13\, Berlin\, 13353\, Deutschland
ATTACH;FMTTYPE=image/png:https://bio-pat.org/wp-content/uploads/2021/10/Bio-PAT_green_png-small.png
ORGANIZER;CN="Organizer%3A%20Bio-PAT%20e.V.":MAILTO:info@bio-pat.org
END:VEVENT
BEGIN:VEVENT
DTSTART;TZID=Europe/Paris:20221013T080000
DTEND;TZID=Europe/Paris:20221014T170000
DTSTAMP:20260421T123537
CREATED:20221010T092506Z
LAST-MODIFIED:20221010T092508Z
UID:6783-1665648000-1665766800@bio-pat.org
SUMMARY:FyoniBio auf dem Global Bioprocessing Summit 2022
DESCRIPTION:Global Bioprocessing Summit \n\n\n\nIndustry\, together with professionals and scientists are finding a way to map out some clearer directions and expectations about what is needed to improve the biopharmaceuticals processing systems. It is of paramount importance to companies to keep their production without disruption and hence accelerated\, the optimized process from research to manufacturing is becoming critical. Global bioprocessing summit has come out as a leading forum for process development\, analytical and formulation scientists\, and industry experts to share day-to-day challenges and practical solutions for the development\, manufacture\, and quality of antibodies\, vaccines\, and gene therapies.  \n\n\n\nConferenzia World’s Global Bioprocessing Summit will provide a common platform for all stakeholders to build up a relationship and discuss addressing global health manufacturing challenges\, optimizing technologies and strategies such as scaling up\, single-use technology\, digitalization\, and automation to accelerate bioprocessing. Join us to be a part of an interesting event with keynotes\, case studies\, fireside chats\, and panel discussion to gain valuable insights and thought-provoking inputs from experts. \n\n\n\nThere will be also an exclusive VIP Biotech Park Berlin-Buch tour for free. \n\n\n\nOur member\, the FyoniBio GmbH will also take part. Organize your personal appointment for the conference and discuss your pharmaceutical needs with one of the experienced team members. Meet experts. \n\n\n\nRegistrationBrochure
URL:https://bio-pat.org/event/fyonibio-auf-dem-global-bioprocessing-summit-2022
LOCATION:Venue: Versuchs- und Lehranstalt für Brauerei in Berlin (VLB) e.V.\, Seestraße 13\, Berlin\, 13353\, Deutschland
ATTACH;FMTTYPE=image/png:https://bio-pat.org/wp-content/uploads/2022/10/Global_Bioprocessing-Summit_Berlin_2022.png
END:VEVENT
BEGIN:VEVENT
DTSTART;TZID=Europe/Paris:20221015T090000
DTEND;TZID=Europe/Paris:20221019T180000
DTSTAMP:20260421T123537
CREATED:20221017T141300Z
LAST-MODIFIED:20221017T153729Z
UID:6841-1665824400-1666202400@bio-pat.org
SUMMARY:FyoniBio und KNAUER at the BIOMIT in Cuba
DESCRIPTION:5th International Congress Biomanufacturing Challenges of Immunotherapy (BIOMIT 2022) is now an established congress\, attracting participant’s intent on sharing\, exchanging and exploring new tendencies and challenges of Biotechnology and Bioengineering and related research and latest developments. The event will have plenary speakers\, established keynote speakers\, active invited speakers and fresh contributed speakers. In this edition the virtual format for oral presentations is included. In addition\, a variety of poster presentations along with workshops and special sessions is offered.  \n\n\n\nFyoniBio GmbH and KNAUER Wissenschaftliche Geräte GmbH will be at BIOMIT.Lars Stöckl (Managing Director at FyoniBio) will talk about „Clone and Process Optimization – Combining Productivity with Quality Goal“.From KNAUER’s side you can meet Carsten Losch (CEO at KNAUER) and Andrea Sosa Moreno. \n\n\n\nSessionsCommittee
URL:https://bio-pat.org/event/fyonibio-und-knauer-auf-dem-biomit
LOCATION:Venue: Center of Molecular Immunology\, 15 Street and 216 Street\, Siboney\, Playa\, La Habana\, Cuba. A.P 16040\, Havanna\, 11600\, Kuba
ATTACH;FMTTYPE=image/png:https://bio-pat.org/wp-content/uploads/2022/10/BIOMIT_Cuba_2022.png
END:VEVENT
BEGIN:VEVENT
DTSTART;TZID=Europe/Paris:20221019T080000
DTEND;TZID=Europe/Paris:20221020T160000
DTSTAMP:20260421T123537
CREATED:20221017T135221Z
LAST-MODIFIED:20221017T135224Z
UID:6834-1666166400-1666281600@bio-pat.org
SUMMARY:KNAUER auf dem Lipid Nanoparticles Development Europe Summit
DESCRIPTION:Der LNP Development Europe Summit ist die einzige europäische Konferenz\, die sich ausschließlich der LNP-Formulierung und Prozessentwicklung widmet\, um eine nahtlose Skalierung zu ermöglichen und dabei GMP-Konformität und Herstellung im Auge zu behalten. \n\n\n\nNach dem Erfolg des US-Gipfels wurde diese europäische Agenda mit Experten von CSL Behring\, Janssen\, AstraZeneca\, CPI\, Insmed und anderen aufgebaut. Der LNP Development Summit soll die Formulierungs- und Prozessentwicklungsexperten innerhalb der LNP-Community zusammenbringen\, um zukünftiges Potenzial auszuschöpfen. \n\n\n\nBesuchen Sie die Kolleg*innen Frau Dr. Nadia Elghobashi-Meinhardt und Herr Dr. Paul Pietsch\, am KNAUER Stand.Verpassen Sie nicht den Vortrag über den neuen IJM NanoScaler am 20.10. um 12:30 Uhr: „The IJM NanoScaler: a Benchtop System for Lipid Nanoparticle Formulation. \n\n\n\nAnmeldungEvent GuideAgenda
URL:https://bio-pat.org/event/knauer-auf-dem-lipid-nanoparticles-development-europe-summit
LOCATION:Venue: Holiday Inn London Regents Park\, Carburton Street\, London\,\, W1W 5EE
ATTACH;FMTTYPE=image/jpeg:https://bio-pat.org/wp-content/uploads/2022/10/LNP_london.jpg
ORGANIZER;CN="Organizer%3A%20Hanson%20Wade":MAILTO:info@hansonwade.com
END:VEVENT
BEGIN:VEVENT
DTSTART;TZID=Europe/Paris:20221019T110000
DTEND;TZID=Europe/Paris:20221019T120000
DTSTAMP:20260421T123537
CREATED:20221017T204756Z
LAST-MODIFIED:20221017T210525Z
UID:6859-1666177200-1666180800@bio-pat.org
SUMMARY:Polyhydroxyalkanoates and chitin: Sustainable\, bio-based\, biodegradable plastics with applications in the circular bioeconomy
DESCRIPTION:Prof. Christopher Brigham (Wentworth Institute of Technology\, Boston MA USA) wird am Fachgebiet der Bioverfahrenstechnik an der TU Berlin über “Polyhydroxyalkanoates and chitin: Sustainable\, bio-based\, biodegradable plastics with applications in the circular bioeconomy” sprechen. Zwischen ihm und der Gruppe Smart Bioproduction Grids – speziell im Bereich Biopolymere – besteht seit langer Zeit eine gute Kooperation. \n\n\n\nZum CV von Prof. Brigham Abstract
URL:https://bio-pat.org/event/polyhydroxyalkanoates-and-chitin-sustainable-bio-based-biodegradable-plastics-with-applications-in-the-circular-bioeconomy
LOCATION:Venue: BVT\, TU Berlin\, Ackerstraße 76\, Aufgang H\, Raum 191\, Berlin\, 13355
ATTACH;FMTTYPE=image/png:https://bio-pat.org/wp-content/uploads/2022/10/PHA.png
END:VEVENT
BEGIN:VEVENT
DTSTART;TZID=Europe/Paris:20221020T090000
DTEND;TZID=Europe/Paris:20221020T163000
DTSTAMP:20260421T123537
CREATED:20220923T124059Z
LAST-MODIFIED:20221013T192708Z
UID:6718-1666256400-1666283400@bio-pat.org
SUMMARY:PSP Conference - Biotechnology & Bioeconomy mit ABiTEP und UP
DESCRIPTION:PSP Conference 2022 — Biotechnology & Bioeconomy — Parcour of the future \n\n\n\n\n\n\n\nBei der diesjährigen PSP Conference stellen Vertreter:innen aus Wissenschaft und Wirtschaft unter dem Motto «Biotechnologie & Bioökonomie – Parcours der Zukunft» im Potsdam Science Park nachhaltige Zukunftstechnologien in den Fokus. \n\n\n\nDie Anwendungsgebiete für biotechnologische Lösungen sind vielfältig: von Pharma über neue Materialien bis hin zu Ernährung und Landwirtschaft. Wie lassen sich dynamische Zukunftssysteme nachhaltig gestalten? Wie kann die Ernährung mit alternativen Ersatzprodukten gelingen? Sind biologische Materialien und biotechnologische Verfahren die Lösung in Anbetracht der Verknappung von fossilen Rohstoffen? Wie gelingt die Reduzierung von Abfallstoffen in der industriellen Fertigung? Wie können qualitativ hochwertige bioökonomische Lösungen schnell und sicher auf den Weg gebracht werden? \n\n\n\nWegweisende Impulse und hohe Innovationsdynamik: Die beiden Potsdamer Fraunhofer-Institute\, drei Max-Planck-Institute und die Universität Potsdam präsentieren bei der PSP Conference 2022 aktuelle Forschungsinnovationen\, Produkte und innovative Verfahren. In verschiedenen Blöcken – „Aktuelle Entwicklungen der Biotechnologie in Deutschland“\, „Biologisierung und Bioökonomie“\, „Best Practise Kooperation Wissenschaft-Wirtschaft“ sowie „Gründung & Finanzierung“ – sprechen Akteur:innen aus Forschung\, Transfer und Wirtschaft über neueste Projekte\, Anwendungen und Kooperationen. Lernen Sie zudem die neuesten Unternehmen und Start-ups des wachsenden Innovations-Ökosystems in Potsdam-Golm kennen und vernetzen Sie sich mit potenziellen Kooperationspartnern aus Forschung und Wirtschaft. \n\n\n\nProgramm \n\n\n\nDas Programm der PSP Conference 2022 steht für Sie bereit! In verschiedenen Themenblöcken berichten Akteur:innen aus Forschung\, Transfer und Wirtschaft von aktuellen Projekten und bieten Einblicke in spannende Best Practice und erfolgreiche Kooperationen. \n\n\n\nVisionäre Gründer:innen erfolgreicher Unternehmen sprechen über relevante Faktoren für erfolgreiche Unternehmensgründung und Entrepreneurship. Beim Startup Pitch präsentieren fünf Gründer:innen der Hauptstadtregion neue Produkte\, Dienstleistungen und Lösungen für die Zukunft. \n\n\n\nIm Rahmen des Programmpunktes „Best Practice Kooperation Wissenschaft-Wirtschaft“ am Nachmittag werden Elisa Schwarz (ABiTEP GmbH) und Dr. Anne Hartwig (Universität Potsdam\, Physikalische Chemie) einen Vortrag mit dem Titel „Was passiert\, wenn keiner guckt? Optische inline-Analyse der bakteriellen Sporenbildung mittels PDW-Spektroskopie“ halten und damit ein Best Practice Beispiel für Technologie-Transfer und eine Kooperation zwischen Universität und Unternehmen vorstellen. Beide sind Mitglieder im Bio-PAT Netzwerk. Matchmaking Sessions \n\n\n\nErweitern Sie Ihr persönliches Netzwerk! Nutzen Sie unsere Konferenztools zum individuellen Face-to-Face Networking und treten Sie mit möglichen Kooperationspartner:innen in Austausch. \n\n\n\nAnmeldung (bis 18.10.22)ProgrammSprecherAussteller
URL:https://bio-pat.org/event/psp-conference-biotechnology-bioeconomy
LOCATION:Venue: Fraunhofer Conference Center (Potsdam Science Park)\, Am Mühlenberg 12\, Potsdam\, 14476
ATTACH;FMTTYPE=image/jpeg:https://bio-pat.org/wp-content/uploads/2022/09/psp-conference.jpg
END:VEVENT
BEGIN:VEVENT
DTSTART;TZID=Europe/Paris:20221021T140000
DTEND;TZID=Europe/Paris:20221021T153000
DTSTAMP:20260421T123537
CREATED:20221017T210710Z
LAST-MODIFIED:20221017T210712Z
UID:6868-1666360800-1666366200@bio-pat.org
SUMMARY:Wissenschaftliche Aussprache: „Process development and monitoring of polyhydroxyalkanoate production from oleaginous feedstocks with Ralstonia eutropha”
DESCRIPTION:Björn Gutschmann (Fachgebiet der Bioverfahrenstechnik\, TU Berlin) verteidigt seine Promotion mit dem Thema: „Process development and monitoring of polyhydroxyalkanoate production from oleaginous feedstocks with Ralstonia eutropha”. \n\n\n\nB. Gutschmann hat diese Arbeit in der Gruppe Smart Bioproduction Grids – speziell im Bereich Biopolymere – angefertigt. \n\n\n\nDie Aussprache besteht aus einem 30-minütigen Vortrag und einer sich anschließenden Diskussion mit allen Gutachtern von 1h.
URL:https://bio-pat.org/event/wissenschaftliche-aussprache-process-development-and-monitoring-of-polyhydroxyalkanoate-production-from-oleaginous-feedstocks-with-ralstonia-eutropha
LOCATION:Venue: BVT\, TU Berlin\, Ackerstraße 76\, Aufgang H\, Raum 191\, Berlin\, 13355
ATTACH;FMTTYPE=image/png:https://bio-pat.org/wp-content/uploads/2022/10/PHA.png
END:VEVENT
BEGIN:VEVENT
DTSTART;TZID=Europe/Paris:20221021T163000
DTEND;TZID=Europe/Paris:20221021T193000
DTSTAMP:20260421T123537
CREATED:20220916T083919Z
LAST-MODIFIED:20220916T083922Z
UID:6660-1666369800-1666380600@bio-pat.org
SUMMARY:Eröffnung des innoFSPEC-Transferlabors
DESCRIPTION:innoFSPEC wird nun über eine Kooperation mit der neuen Transferprofessur der Universität Potsdam\, Prof. Dr. von Grünberg\, erweitert\, um den Transfer der Forschungsergebnisse und Innovationen innoFSPECs sowie anderer Forschungsgruppen zu stärken. in diesem Zusammenhang gibt es am 21.10.2022 einen Eröffnungsempfang des innoFSPEC-Transferlabors. \n\n\n\nDas innoFSPEC-Transferlabor der Mathematisch-Naturwissenschaftlichen Fakultät an der Universität Potsdam geht einerseits auf das Zentrum für Innovationskompetenz (ZIK) innoFSPEC Potsdam zurück\, welches 2008 als Gemeinschaftsvorhaben der Physikalischen Chemie der Universität Potsdam und dem Leibniz-Institut für Astrophysik Potsdam (AIP) unter der BMBF Initiative „Unternehmen Region“ gebildet wurde. Andererseits gründet es sich auf die im Rahmen der Initiative Innovative Hochschule des BMBF aufgebauten Joint-Labs für optische Prozess- und Analysentechnologien (OPAT). Das Labor wurde mit der Berufung von Prof. von Grünberg auf die Transferprofessur an der Math.-Nat. Fakultät 2021 verstetigt und weiterentwickelt. Es formiert sich ab dem 1. Sep. 2022 unter dem Namen „innoFSPEC-Transferlabor“. Besonderes Merkmal des innoFSPEC-Transferlabors ist die enge Verbindung mit der Forschung von Prof. Bald (u.a. Beteiligung an der SFB-Initiative von Chemie und Physik).Das innoFSPEC-Transferlabor blickt bereits auf eine Vielfalt erfolgreicher Transferaktivitäten mit regionalen\, nationalen und internationalen Firmen zurück und möchte diese Erfahrungen nutzen\, um den Transfer der Forschungsergebnisse aller Arbeitsgruppen der Math.-Nat. Fakultät zu fördern. Hierbei fokussieren wir Kooperationsanbahnungen sowie die Erprobung\, Adaption und Weiterentwicklung einer wissenschaftlichen Methodik mit dem Ziel\, diese Technik auch dauerhaft in der Industrie oder in anderen Forschungsstätten zur Anwendung zu bringen. Das innoFSPEC-Transferlabor wird aber auch weiterhin eigene Grundlagen- sowie anwendungsnahe Forschung in den Bereichen der Astrophotonik\, multimodalen Spektroskopie sowie innovative Materialien und Sensorik betreiben. \n\n\n\nVorläufiges Programm16:40 Grußwort des Referatsleiters für Wissens- und Technologietransfer des Ministerium für Wissenschaft\, Forschung und Kultur des Landes Brandenburg (Matthias Weiß)16:50 Grußwort des Potsdamer Bürgermeisters\, Beigeordneter für den Geschäftsbereich Finanzen\, Investitionen und Controlling (Burkhard Exner (tbc))Grußworte der Universitäts- und Fakultätsleitung17:00 Präsident der Universität Potsdam (Prof. Oliver Günther\, Ph.D.)17:10 Direktor des Leibniz-Instituts für Astrophysik Potsdam (Prof. Dr. Matthias Steinmetz)17:20 Vizepräsidentin für Forschung\, wissenschaftliche Qualifizierungsphase und Chancengleichheit (Prof. Dr. Barbara Höhle)17:30 Dekan der Mathematisch-Naturwissenschaftlichen Fakultät (Prof. Dr. Ralph Gräf)17:40 Rückblick auf 14 erfolgreiche Jahre innoFSPEC (Prof. Dr. Ilko Bald\, Prof. Dr. Martin Roth)17:50 Das innoFSPEC-Transferlabor: Status quo und Ausblick (Prof. Dr. Hans-Hennig von Grünberg)18:00 Pressefoto18:10 Sektempfang und Laborbesichtigungen (Dr. Oliver Reich\, Dr. Marvin Münzberg)19:30 Ende der Veranstaltung
URL:https://bio-pat.org/event/eroeffnung-des-innofspec-transferlabors
LOCATION:Venue: Fraunhofer-Konferenzzentrum\, Am Mühlenberg 12\, Potsdam-Golm\, 14476
ATTACH;FMTTYPE=image/jpeg:https://bio-pat.org/wp-content/uploads/2020/04/innoFSPEC.jpg
END:VEVENT
BEGIN:VEVENT
DTSTART;TZID=Europe/Paris:20221024T080000
DTEND;TZID=Europe/Paris:20221026T173000
DTSTAMP:20260421T123537
CREATED:20221010T091451Z
LAST-MODIFIED:20221018T082818Z
UID:6776-1666598400-1666805400@bio-pat.org
SUMMARY:FyoniBio auf dem BIO-EUROPE
DESCRIPTION:Unser Mitglied\, die FyoniBio GmbH wird am Bio-Europe 2022\, einem Partnering Event\, in Leipzig teilnehmen.Sie können jetzt ihr ganz persönliches Beratungsgespräch mit Experten des Unternehmens auf dem Kongress vereinbaren\, um Ihre Anliegen im Bereich pharmazeutischer Wirkstoffentwicklung zu diskutieren. Die Experten beraten Sie gern von der Zelllinienentwicklung über Prozessentwicklung bis hin zu bioanalytischen und klinischen Services. \n\n\n\nHier Gespräch vereinbaren. \n\n\n\nAgendaPräsentierende Unternehmen
URL:https://bio-pat.org/event/fyonibio-auf-dem-bio-europe
LOCATION:Venue: Leipzig Messe\, Messe-Allee 1\, Leipzig\, 04356\, Deutschland
ATTACH;FMTTYPE=image/gif:https://bio-pat.org/wp-content/uploads/2022/10/Bio-Europe.gif
END:VEVENT
BEGIN:VEVENT
DTSTART;TZID=Europe/Paris:20221026T080000
DTEND;TZID=Europe/Paris:20221026T160000
DTSTAMP:20260421T123537
CREATED:20220712T105729Z
LAST-MODIFIED:20221017T200942Z
UID:6370-1666771200-1666800000@bio-pat.org
SUMMARY:Knick und Pronova auf der MEORGA Bochum
DESCRIPTION:MEORGA veranstaltet technologisch orientierte Fachmessen mit begleitenden Fachvorträgen für Produkte der Messtechnik\, Steuerungstechnik\, Regeltechnik\, Prozessleitsysteme und Automatisierungstechnik in der Prozess- und Fabrikautomation. \n\n\n\nAuf der MSR-Spezialmesse in Bochum wird auch die Knick Elektronische Messgeräte GmbH & Co. KG und die Pronova Analysentechnik GmbH & Co. KG vertreten sein. Pronova berät Sie zu den neuen Anforderungen TRAS 120 und 44. BlmSchV. und zum Emissionsauswertesystem EMIR sowie zu aktuellen Entwicklungen und dem Leistungspektrum. Knick stellt Mess-\, Steuerungs- und Regelungssysteme sowie Automatisierungstechnik vor und berät zu einer Vielzahl an Dienstleistungen. \n\n\n\nAusstellerlisteThemenzuordnungBesucherregistrierung (kostenfrei)
URL:https://bio-pat.org/event/pronova-analysentechnik-gmbh-co-kg-auf-der-meorga-bochum
LOCATION:Venue: RuhrCongress Bochum\, Stadionring 20\, Bochum\, Nordrhein-Westfalen\, 44791\, Deutschland
ATTACH;FMTTYPE=image/png:https://bio-pat.org/wp-content/uploads/2021/09/meorga-1.png
ORGANIZER;CN="Organisation%3A%20MEORGA%20GmbH":MAILTO:info@meorga.de
END:VEVENT
BEGIN:VEVENT
DTSTART;TZID=Europe/Paris:20221027T110000
DTEND;TZID=Europe/Paris:20221027T120000
DTSTAMP:20260421T123537
CREATED:20221004T113432Z
LAST-MODIFIED:20221004T113435Z
UID:6736-1666868400-1666872000@bio-pat.org
SUMMARY:BlueSens Webinar: „Scaling up Hydrogen production from green micro-algae“
DESCRIPTION:Tamar Elman\, Promotionsstudentin an der Universität von Tel Aviv (Israel) bei Prof. Iftach Yacoby (Fachgebiet „Molecular Biology Ecology of Plants“) wird ihre Arbeit im Talk „Scaling up Hydrogen production from green micro-algae“ vorstellen\, bei der auch die BlueSens Technologie angewandt wurde. \n\n\n\nAnmeldung
URL:https://bio-pat.org/event/bluesens-webinar-scaling-up-hydrogen-production-from-green-micro-algae
LOCATION:Venue: Online
ATTACH;FMTTYPE=image/png:https://bio-pat.org/wp-content/uploads/2020/06/BlueSens-2.png
END:VEVENT
BEGIN:VEVENT
DTSTART;TZID=Europe/Paris:20221027T160000
DTEND;TZID=Europe/Paris:20221027T170000
DTSTAMP:20260421T123537
CREATED:20221024T081318Z
LAST-MODIFIED:20221024T081355Z
UID:6885-1666886400-1666890000@bio-pat.org
SUMMARY:KIWI-biolab Talk: Machine Learning & Hybrid Modeling: Tools for biopharmaceutical development and production
DESCRIPTION:In the frame of the series „KIWI-biolab talk“ Dr. Harini Narayanan will give a talk on Thursday\, October 27\, 2022\, at 16:00 (CEST) entitled „Machine Learning & Hybrid Modeling: Tools for biopharmaceutical development and production„. \n\n\n\n\n\n\n\nVitaDr. Narayanan is currently a postdoctoral associate in the group of Prof. Christopher Love at MIT. She received her bachelors in chemical engineering from the National Institute of Technology in 2016. Following that she did her M.Sc. and Ph.D. in chemical and bioengineering from ETH Zurich. Her primary area of focus has been the development of Machine Learning and Hybrid modeling tools to make biomanufacturing smarter\, faster\, and cheaper.  While her doctoral work was predominantly focused on upstream and downstream process modeling\, her postdoctoral work has been focused on applying the principle of ML/AI to the molecular and genetic engineering of the production hosts. She has co-authored more than 10 papers and presented at several conferences ranging from chemical engineering to bioengineering and pharmaceutical sciences. \n\n\n\n\n\n\n\nAccess to the talkThe talk is open to everybody and no registration is required.Join by clicking the ZOOM Link.
URL:https://bio-pat.org/event/kiwi-biolab-talk-machine-learning-hybrid-modeling-tools-for-biopharmaceutical-development-and-production
LOCATION:Venue: Online
ATTACH;FMTTYPE=image/jpeg:https://bio-pat.org/wp-content/uploads/2021/10/Logo-KIWI.jpg
ORGANIZER;CN="Organizer%3A%20KIWI-biolab":MAILTO:marta.gonzalezgomez@campus.tu-berlin.de
END:VEVENT
BEGIN:VEVENT
DTSTART;TZID=Europe/Paris:20221102T090000
DTEND;TZID=Europe/Paris:20221104T143000
DTSTAMP:20260421T123537
CREATED:20221017T092546Z
LAST-MODIFIED:20221028T073256Z
UID:6825-1667379600-1667572200@bio-pat.org
SUMMARY:FyoniBio at the Festival of Biologics 2022
DESCRIPTION:Biologic drug discovery\, development\, manufacturing\, pricing & market access\, clinical trials. \n\n\n\n\n\n\n\nThe Festival of Biologics brings together pharma & biotech\, academics and research institutes\, together with their partners across the value chain.Across antibodies\, immunotherapy and biosimilars our participants share research\, create new partnerships\, and tackle the clinical trials\, manufacturing and commercial challenges involved in bringing new therapies to market. \n\n\n\nNew for 2022World Clinical Trials Congress\, exploring trial planning\, patient recruitment\, devices\, data capature and regulation. \n\n\n\nVisit FyoniBio (also sponsor) at booth 101 to find out more about the company and their field of expertise. \n\n\n\nDr. Lena Thoring will talk on November 02\, 2022 at 3 pm about „How to reach biopharma quality and productivity goals? Solution: Having a versatile platform in place!“ –> Versatile expression platform for different quality needs of biopharmaceutical: CHOnamite® vs GEX®–> Special emphasis on glycosylation from different host cell systems of crucial importance for biosimilar development–> Increase of quality (e.g.\, glycosylation) and productivity by process optimization  \n\n\n\nAdditionally\, a poster presenting case study data from the expression platforms of FyoniBio is presented. \n\n\n\nProgramme overviewAgendaSpeakers
URL:https://bio-pat.org/event/fyonibio-at-the-festival-of-biologics-2022
LOCATION:Venue:  Congress Center Basel\, Messeplatz 21\, Basel\, 4058\, Schweiz
ATTACH;FMTTYPE=image/png:https://bio-pat.org/wp-content/uploads/2022/10/FoB_Basel_2022.png
END:VEVENT
END:VCALENDAR