BEGIN:VCALENDAR
VERSION:2.0
PRODID:-//Bio-PAT - ECPv5.3.2.1//NONSGML v1.0//EN
CALSCALE:GREGORIAN
METHOD:PUBLISH
X-WR-CALNAME:Bio-PAT
X-ORIGINAL-URL:https://bio-pat.org
X-WR-CALDESC:Veranstaltungen für Bio-PAT
BEGIN:VTIMEZONE
TZID:Europe/Paris
BEGIN:DAYLIGHT
TZOFFSETFROM:+0100
TZOFFSETTO:+0200
TZNAME:CEST
DTSTART:20220327T010000
END:DAYLIGHT
BEGIN:STANDARD
TZOFFSETFROM:+0200
TZOFFSETTO:+0100
TZNAME:CET
DTSTART:20221030T010000
END:STANDARD
END:VTIMEZONE
BEGIN:VEVENT
DTSTART;TZID=Europe/Paris:20221102T090000
DTEND;TZID=Europe/Paris:20221104T143000
DTSTAMP:20260421T112037
CREATED:20221017T092546Z
LAST-MODIFIED:20221028T073256Z
UID:6825-1667379600-1667572200@bio-pat.org
SUMMARY:FyoniBio at the Festival of Biologics 2022
DESCRIPTION:Biologic drug discovery\, development\, manufacturing\, pricing & market access\, clinical trials. \n\n\n\n\n\n\n\nThe Festival of Biologics brings together pharma & biotech\, academics and research institutes\, together with their partners across the value chain.Across antibodies\, immunotherapy and biosimilars our participants share research\, create new partnerships\, and tackle the clinical trials\, manufacturing and commercial challenges involved in bringing new therapies to market. \n\n\n\nNew for 2022World Clinical Trials Congress\, exploring trial planning\, patient recruitment\, devices\, data capature and regulation. \n\n\n\nVisit FyoniBio (also sponsor) at booth 101 to find out more about the company and their field of expertise. \n\n\n\nDr. Lena Thoring will talk on November 02\, 2022 at 3 pm about „How to reach biopharma quality and productivity goals? Solution: Having a versatile platform in place!“ –> Versatile expression platform for different quality needs of biopharmaceutical: CHOnamite® vs GEX®–> Special emphasis on glycosylation from different host cell systems of crucial importance for biosimilar development–> Increase of quality (e.g.\, glycosylation) and productivity by process optimization  \n\n\n\nAdditionally\, a poster presenting case study data from the expression platforms of FyoniBio is presented. \n\n\n\nProgramme overviewAgendaSpeakers
URL:https://bio-pat.org/event/fyonibio-at-the-festival-of-biologics-2022
LOCATION:Venue:  Congress Center Basel\, Messeplatz 21\, Basel\, 4058\, Schweiz
ATTACH;FMTTYPE=image/png:https://bio-pat.org/wp-content/uploads/2022/10/FoB_Basel_2022.png
END:VEVENT
BEGIN:VEVENT
DTSTART;TZID=Europe/Paris:20221106T180000
DTEND;TZID=Europe/Paris:20221109T040000
DTSTAMP:20260421T112037
CREATED:20220919T100036Z
LAST-MODIFIED:20221015T184011Z
UID:6674-1667757600-1667966400@bio-pat.org
SUMMARY:BlueSens auf der RAFT (Recent Advances in Fermentation Technology) in Florida
DESCRIPTION:Auf der „RAFT“ werden aktuelle Fortschritte auf dem Gebiet der Fermentationstechnologie vorgestellt. \n\n\n\nDie Mission der SIMB ist es\, seine Mitglieder und andere darin zu stärken\, sich aktuellen und zukünftigen Herausforderunge für die Menschheit zu stellen\, indem sie die Potentiale der industriellen Mikrobiologie and Biotechnologie nutzen. \n\n\n\nAuch die BlueSens Corporation wird ausstellen und auf Stand 24 vertreten sein. James Hope\, Matthias Wiltfang und Kristina Bruellhoff werden u.a. das neue Konzept ‚Use What You Have‘ vorstellen. \n\n\n\nOnline-ProgrammAusstellerverzeichnis
URL:https://bio-pat.org/event/bluesens-auf-der-raft-recent-advances-in-fermentation-technology-in-florida
LOCATION:Venue: Caribe Royale resort\, 8101 World Center Drive\, Florida - Orlando\, Florida\, 32821\, Vereinigte Staaten
ATTACH;FMTTYPE=image/png:https://bio-pat.org/wp-content/uploads/2022/09/RAFT.png
END:VEVENT
BEGIN:VEVENT
DTSTART;TZID=Europe/Paris:20221109T090000
DTEND;TZID=Europe/Paris:20221109T153000
DTSTAMP:20260421T112037
CREATED:20210804T075550Z
LAST-MODIFIED:20221107T090713Z
UID:6395-1667984400-1668007800@bio-pat.org
SUMMARY:KNAUER auf der LAB-SUPPLY in Münster
DESCRIPTION:Auf der Fachmesse für instrumentelle Analytik\, Labortechnik\, Laborausstattung\, Laborchemikalien und Biotechnologie/Life Science stellt KNAUER Wissenschaftliche Geräte GmbH\, ein Mitglied des Bio-PAT Netzwerks\, ihre neuesten Produkte aus. \n\n\n\nBesuchen Sie den KNAUER Stand und lassen Sie sich von Flüssigchromatographie-Expertin Iris Leßmann und Dr. Diana Rohrbeck über KNAUER-Lösungen für Ihre chromatographischen Herausforderungen beraten. \n\n\n\nZudem wird sie einen Vortrag über „Troubleshooting in HPLC“. HPLC-Begeisterte erhalten in diesem Vortrag praktische Tipps für die Anwendung und Optimierung ihrer Probenanalytik und zur Sicherstellung sauberer Peaks. \n\n\n\nWebsiteAusstellerliste
URL:https://bio-pat.org/event/knauer-auf-der-lab-supply-in-muenster-2-2
LOCATION:Venue: Messe und Congress Centrum Halle Münsterland GmbH\, Albersloher Weg 32\, Münster\, 48155\, Deutschland
ATTACH;FMTTYPE=image/jpeg:https://bio-pat.org/wp-content/uploads/2021/07/logo-lab-supply.jpg
END:VEVENT
BEGIN:VEVENT
DTSTART;TZID=Europe/Paris:20221114T100000
DTEND;TZID=Europe/Paris:20221117T180000
DTSTAMP:20260421T112037
CREATED:20210906T172921Z
LAST-MODIFIED:20221109T081157Z
UID:6314-1668420000-1668708000@bio-pat.org
SUMMARY:biotechrabbit und KNAUER auf der Medica in Düsseldorf
DESCRIPTION:Das MEDICA-Forum verbindet Innovatoren im Gesundheitswesen\, Tech-Unternehmer\, Investoren und Branchenexperten. Sie ist der globale Hotspot für die neuesten Technologien und Innovationen\, die die digitale Gesundheitstransformation vorantreiben. \n\n\n\n\n\n\n\nBesuchen sie die biotechrabbit GmbH auf der Medica in Halle G03\, Stand 52. Buchen Sie am besten vorher einen Termin: info@biotechrabbit.comTel.: +49 30 555 7821 10.\n\n\n\n\n\n\n\n\n\n\n\nKolleg:innen der Knauer Wissenschaftliche Geräte GmbH finden Sie in Halle 15\, Stand K22.\n\n\n\n\n\n\n\nAusstellerForen und KonferenzenBesucherinformationen
URL:https://bio-pat.org/event/biotechrabbit-auf-der-medica-2
LOCATION:Venue: Messegelände Düsseldorf\, Am Staad\, Düsseldorf\, 40474\, Deutschland
ATTACH;FMTTYPE=image/jpeg:https://bio-pat.org/wp-content/uploads/2021/09/medica_duration_2022_01_cmyk.jpg
ORGANIZER;CN="Organisation%3A%20Messe%20D%C3%BCsseldorf%20GmbH":MAILTO:info@messe-duesseldorf.de
END:VEVENT
BEGIN:VEVENT
DTSTART;TZID=Europe/Paris:20221114T150000
DTEND;TZID=Europe/Paris:20221116T153000
DTSTAMP:20260421T112037
CREATED:20221007T081435Z
LAST-MODIFIED:20221108T193212Z
UID:6757-1668438000-1668612600@bio-pat.org
SUMMARY:16. Interdisziplinäres Doktorandenseminar; mit den Sponsoren Bio-PAT\, BlueSens\, Knick und PDW
DESCRIPTION:Interdisziplinäres Doktorandenseminar\n\n\n\n\n\n\n\nDer Arbeitskreis Prozessanalytik der GDCh richtet das Doktorandenseminar jährlich in Zusammenarbeit mit den Arbeitskreisen Chemo- & Biosensoren und Chemometrie der Fachgruppe Analytische Chemie aus. Das Ziel ist der interdisziplinäre\, wissenschaftliche Erfahrungsaustausch zwischen Doktoranden. Diese haben die Möglichkeiten ihre Forschungsarbeiten in Form von Postern oder Präsentationen vorzustellen und von anderen Doktoranden zu lernen. Der Netzwerkgedanke wird hier großgeschrieben. Das Rahmenprogramm ist darauf ausgelegt\, sich kennenzulernen und zu vernetzen. \n\n\n\nBio-PAT und die Mitglieder BlueSens\, Knick und PDW sind u.a. Sponsoren des Events. Bio-PAT wird auch an dem Seminar teilnehmen. \n\n\n\n\n\n\n\nThema\n\n\n\nDas diesjährige Thema des Doktorandenseminars lautet „Die junge PAT – präsent und vernetzt“.Obwohl die digitale Informationsweitergabe aus der Prozessanalysentechnik nicht wegzudenken ist\, soll im diesjährigen Doktorandenseminar vor allem der interdisziplinäre Austausch in Präsenz im Vordergrund stehen. In Anknüpfung an den Trialog zwischen Herstellern\, Anwendern und Forschung\, der den Arbeitskreis Prozessanalytik prägt\, möchten wir Themen von der technischen Grundlagen-Forschung über die Erschließung neuer Einsatzfelder bis hin zur Entwicklung von Datenauswertungslösungen beleuchten. \n\n\n\nNeben Beiträgen zu aktuellen Forschungsthemen gibt es die Möglichkeit\, mit Vertretern aus der Industrie aktuelle Fragen zu diskutieren und Lösungsansätze zu entwickeln. \n\n\n\nWeitere Informationen und Teilnahme\n\n\n\nHIER finden Sie weitere Informationen zum Programm und zu Anmeldung (für Beiträge bis 10.10.2022\, 23:59 Uhr).
URL:https://bio-pat.org/event/16-interdisziplinaeres-doktorandenseminar
LOCATION:Venue: proWissen Potsdam e. V. \, WIS im Bildungsforum\, Am Kanal 47\, Potsdam\, 14467
ATTACH;FMTTYPE=image/jpeg:https://bio-pat.org/wp-content/uploads/2022/10/DokSem_Nov-2022.jpg
ORGANIZER;CN="Organizer%3A%20Arbeitskreis%20Prozessanalytik%20der%20GDCh":MAILTO:katharina.dahlmann@aquila-biolabs.de
END:VEVENT
BEGIN:VEVENT
DTSTART;TZID=Europe/Paris:20221115T090000
DTEND;TZID=Europe/Paris:20221118T170000
DTSTAMP:20260421T112038
CREATED:20210906T163637Z
LAST-MODIFIED:20220725T080036Z
UID:4525-1668502800-1668790800@bio-pat.org
SUMMARY:Pronova auf der Energy Decentral
DESCRIPTION:Die Messe EnergyDecentral in Hannover ist die Leitmesse für die dezentrale Energieversorgung. Sie steht als Fachmesse für Motorenanlagen und deren Infrastruktur sowie insbesondere der Erzeugung von Biogas. Ausstellungsschwerpunkte finden sich außerdem in den Bereichen biogener Festbrennstoffe\, Windkraft sowie Smart Energy. Ergänzt wird die Messe durch ein hochkarätiges Fachprogramm\, das neben einer mehrtägigen Tagung\, der BIOGAS Convention\, auch ein aufwendiges Themenspecial und zahlreiche Fachforen aufweisen kann. Kern-Zielgruppe der EnergyDecentral Messe Hannover sind Betreiber von Anlagen zur Energieerzeugung\, die Kommunalwirtschaft und Lebensmittelindustrie. Die EnergyDecentral richtet sich durch ihre Nähe zur Agrarwirtschaft und der parallel stattfindenden EuroTier zudem an Unternehmen aus der professionellen Landwirtschaft. \n\n\n\nDie Pronova Analysentechnik GmbH & Co. KG ist auch Aussteller vor Ort und berät Sie gern zu aktuellen Entwicklungen und Leistungen in den Bereichen Analysensysteme\, Analysatoren und Sensoren\, sowie für Komponenten der Biogasanalyse\, Gasanalyse und Gaswarntechnik. \n\n\n\nProgrammFacts & FiguresInformationen für AusstellerInformationen für Besucher
URL:https://bio-pat.org/event/pronova-analysentechnik-gmbh-co-kg-auf-der-energy-decentral-2
LOCATION:Venue: Messe Hannover\, Messegelände\, Hannover\, 30521\, Deutschland
ATTACH;FMTTYPE=image/jpeg:https://bio-pat.org/wp-content/uploads/2021/09/logo-EnergyDec_digital_pos.jpg
ORGANIZER;CN="Organisation%3A%20DLG%20Messen":MAILTO:r.kientzler@dlg.org
END:VEVENT
BEGIN:VEVENT
DTSTART;TZID=Europe/Paris:20221116T090000
DTEND;TZID=Europe/Paris:20221117T140000
DTSTAMP:20260421T112038
CREATED:20221028T124729Z
LAST-MODIFIED:20221108T111947Z
UID:6903-1668589200-1668693600@bio-pat.org
SUMMARY:ABiTEP at INTERNATIONAL AGROFEROMONAS FORUM 2022
DESCRIPTION:ABiTEP will be present at the INTERNATIONAL AGROFEROMONAS FORUM 2022 in Cartagena\, Spain. \n\n\n\n\n\n\n\nFranz Hentschel (Product Manager) and Elisa Schwarz (Head of R&D) will present the new product „RhizoVital®C5“ on November 16 at 11:05 am. The talk is entitled: „The use of the biostimulant RhizoVital®C5 (Bacillus atrophaeus ABi 05) in horticultural and field crops to ensure crop yields.” \n\n\n\nRegistrationProgramme
URL:https://bio-pat.org/event/abitep-at-international-agroferomonas-forum-2022
LOCATION:Venue: Auditorio El Batel\, P.º Alfonso XII\, S/N\, Cartagena\, Murcia\, 30201\, Spanien
ATTACH;FMTTYPE=image/png:https://bio-pat.org/wp-content/uploads/2022/10/logo-agroferomonas-2022-copia.png
END:VEVENT
BEGIN:VEVENT
DTSTART;TZID=Europe/Paris:20221116T090000
DTEND;TZID=Europe/Paris:20221118T180000
DTSTAMP:20260421T112038
CREATED:20221114T092857Z
LAST-MODIFIED:20221114T093214Z
UID:6990-1668589200-1668794400@bio-pat.org
SUMMARY:FyoniBio und KNAUER auf dem TIDES Europe 2022
DESCRIPTION:TIDES Europe 2022 ist eine der führenden Veranstaltungen der Branche in Europa zur Beschleunigung der Markteinführung von Therapeutika (Oligonukleotide\, Peptide\, mRNA\, Wirkstoffabgabe) durch die Förderung von Forschung und Entwicklung\, die Verbesserung der Effizienz von Chemie\, Herstellung und Kontrolle (CMC) und den Aufbau neuer Partnerschaften.  \n\n\n\nDie FyoniBio GmbH und  KNAUER Wissenschaftliche Geräte GmbH werden auch vor Ort sein. KNAUER wird Systeme für die Herstellung von Lipid-Nanopartikeln auf Stand 67 ausstellen. \n\n\n\nAgendaSprecherSponsoren
URL:https://bio-pat.org/event/fyonibio-und-knauer-auf-dem-tides-europe-2022
LOCATION:Venue: Austria Center\, Bruno-Kreisky-Platz 1\, Wien\, 1220\, Österreich
ATTACH;FMTTYPE=image/jpeg:https://bio-pat.org/wp-content/uploads/2022/11/TIDES.jpg
END:VEVENT
BEGIN:VEVENT
DTSTART;TZID=Europe/Paris:20221121T080000
DTEND;TZID=Europe/Paris:20221123T170000
DTSTAMP:20260421T112038
CREATED:20220922T053619Z
LAST-MODIFIED:20221120T211422Z
UID:6696-1669017600-1669222800@bio-pat.org
SUMMARY:12th Iberoamerican VLB Symposium Brewing & Filling Technology
DESCRIPTION:12th Iberoamerican VLB Symposium Brewing & Filling Technology (IBS) \n\n\n\nAfter 4 years\, the VLB Ibero-American Symposium returns to Brazil\, this time in Uberlandia (MG). Once again\, the renowned presenters from the brewing industry\, including raw material suppliers\, will meet during two days to discuss with the participants current issues. \n\n\n\nYou are invited to participate in the conference that has become a “must” in the Latin American brewing sector. As part of the program\, a visit in local breweries is organized. The Symposium will have simultaneous English and Portuguese translation. \n\n\n\nYou are welcome. Update your knowledge and improve your network!! \n\n\n\nThe organizer\, VLB Berlin\, is a member of the Bio-PAT Network. \n\n\n\nRegistrationSponsorsProgramme
URL:https://bio-pat.org/event/12th-iberoamerican-vlb-symposium-brewing-filling-technology
ATTACH;FMTTYPE=image/jpeg:https://bio-pat.org/wp-content/uploads/2022/09/Ibero_banner_1350x300.jpg
END:VEVENT
BEGIN:VEVENT
DTSTART;TZID=Europe/Paris:20221124T170000
DTEND;TZID=Europe/Paris:20221124T180000
DTSTAMP:20260421T112038
CREATED:20221108T123630Z
LAST-MODIFIED:20221108T124212Z
UID:6954-1669309200-1669312800@bio-pat.org
SUMMARY:Energie & Wasser: Zukünftig zusammen denken
DESCRIPTION:Welche Rolle spielt Wasser für die nachhaltige Energieerzeugung? Welche innovativen Lösungen gibt es bereits? Diese Fragen werden auf dieser Veranstaltung beantwortet. Sie wird von von unseren Netzwerkpartnern Berlin Brandenburg Energy Network e.V. und Maris Berlin Brandenburg e.V. organisiert. Neben Fachvorträgen gibt es im Anschluss die Möglichkeit zum Networking & Austausch mit Expert:innen.  \n\n\n\n\n\n\n\nAgenda \n\n\n\n17:00: Ankommen & Begrüßung17:15: Begrüßungsworte: Nicole Hiltl\, Geschäftsführerin | Berlin-Brandenburg Energy Network e.V.\, Dirk Pritsch\, Netzwerkkoordinator | MARIS Berlin Brandenburg17:15 – 18:00: Impulsvorträge:– Energiegewinnung aus Abwasser\, Nina Heine\, Founder & CEO | Shit2Power– Solargründach und Wasserhaushalt\, Martin Küster Gebietsleiter & Fachberater | Optigrün international AG– Energieautarke Kläranlagen in der großtechnischen Umsetzung | TU Berlin und p2mberlin GmbH18:00: Offenes Gespräch mit Expert:innen & Ausklang bei Snacks und Drinks \n\n\n\n\n\n\n\nOrganisationen \n\n\n\nDer Berlin-Brandenburg Energy Network e.V. ist der Verband der Erneuerbaren Energien und damit verbundenen Wissenschaftseinrichtungen in der Hauptstadtregion. Der Berlin-Brandenburg Energy Network e.V. (BEN) setzt sich als Schnittstelle zwischen Wirtschaft\, Politik und Wissenschaft für Lösungen zur effektiven Umsetzung der Energiewende in der Region ein und unterstützt unternehmerische Aktivitäten der Branche. \n\n\n\nMARIS Berlin Brandenburg ist das Netzwerk der Berliner und Brandenburger Wasserwirtschaft. Die Mitglieder setzen sich zusammen aus vorwiegend regionalen kleinen und mittelständischen Unternehmen (KMU) sowie Forschung und Wissenschaft. Das Netzwerk bearbeitet die relevanten Zukunftsaufgaben der Wasserwirtschaft in der Metropolregion und wirkt als Interessenverband gegenüber Politik\, Verwaltung und Öffentlichkeit. Das Netzwerk wird von der Senatsverwaltung für Wirtschaft\, Energie und Betriebe gefördert. \n\n\n\nShit2Power verwertet Klärschlamm dort wo er entsteht und erhöht durch lokale Energie- und Wasserstoffproduktion die Unabhängigkeit von Kläranlagen. Shit2Power unterstützt die Nachhhaltigkeitsziele der Bundesregierung und misst ihre Wirkung an den UN Sustainable Development Goals. \n\n\n\nOPTIGRÜN gehört zu einem der führenden Anbieter von Dachbegrünungen in Europa. Ihre Ziele sind der Ausbau von Natur- und Grünflächen für mehr Lebensqualität im urbanen Umfeld und die naturnahe\, organische Städteentwicklung zur Verbesserung der Ökobilanz. \n\n\n\np2m berlin GmbH ist die Ingenieurgesellschaft\, die das Know-how aus Planung und Betrieb mit dem Wissen aus 160 Jahren Wasserver- und Abwasserentsorgung der Stadt Berlin verbindet. Von der Projektentwicklung über die Planung bis zum Bau und der Inbetriebnahme erhalten Sie alle Leistungen von ihnen aus einer Hand. \n\n\n\nAnmeldung
URL:https://bio-pat.org/event/energie-wasser-zukuenftig-zusammen-denken
LOCATION:Venue: The Drivery GmbH\, Hangar 18 Mariendorfer Damm 1\, Berlin\, 12099\, Deutschland
ATTACH;FMTTYPE=image/png:https://bio-pat.org/wp-content/uploads/2022/11/energy-talk.png
END:VEVENT
BEGIN:VEVENT
DTSTART;TZID=Europe/Paris:20221129T100000
DTEND;TZID=Europe/Paris:20221201T180000
DTSTAMP:20260421T112038
CREATED:20221109T102303Z
LAST-MODIFIED:20221109T102401Z
UID:6978-1669716000-1669917600@bio-pat.org
SUMMARY:SOPAT auf dem PMEC in Delhi
DESCRIPTION:Über die Partnerschaft mit Spinco Biotech ist die SOPAT GmbH auf dem indischen Markt\, insbesondere im pharmazeutischen Sektor\, vertreten.   Eine große Veranstaltung in der pharmazeutischen Industrie ist die CPHI & PMEC India. Hier präsentiert Spinco Biotech Produkte der SOPAT GmbH auf dem Stand Nr. 11.C41. Mirco Wegener\, Head of Sales and Marketing\, wird ebenso vor Ort sein. \n\n\n\n\n\n\n\nAusstellerlisteInformationen für BesucherInformationen für Aussteller
URL:https://bio-pat.org/event/sopat-auf-dem-pmec
LOCATION:Venue: India Expo Centre\, Greater Noida\, Delhi NCR\, Indien
ATTACH;FMTTYPE=image/jpeg:https://bio-pat.org/wp-content/uploads/2022/11/pmec-sopat.jpg
END:VEVENT
BEGIN:VEVENT
DTSTART;TZID=Europe/Paris:20221201T160000
DTEND;TZID=Europe/Paris:20221201T170000
DTSTAMP:20260421T112038
CREATED:20211201T083410Z
LAST-MODIFIED:20230420T081150Z
UID:5644-1669910400-1669914000@bio-pat.org
SUMMARY:BlueSens Webinar: YeastForce - Measurement of dough parameters and yeast activity
DESCRIPTION:The BlueSens gas sensor GmbH\, a member of the Bio-PAT network\, offers a live webinar in English presenting the YeastForce technology – a user-friendly yeast performance testing in dough samples.  \n\n\n\nIt determines the dough volume\, gas holding capacity\, tearing point and more parameters. By this\, it helps to improve yeast based processes\, e.g. the baking process. \n\n\n\nRegistration
URL:https://bio-pat.org/event/bluesens-webinar-yeastforce-english-2-2
LOCATION:Venue: Online
ATTACH;FMTTYPE=image/jpeg:https://bio-pat.org/wp-content/uploads/2021/12/BlueSens-Webinar-01.12.2022.jpeg
END:VEVENT
BEGIN:VEVENT
DTSTART;TZID=Europe/Paris:20221202T110000
DTEND;TZID=Europe/Paris:20221202T140000
DTSTAMP:20260421T112038
CREATED:20221014T061215Z
LAST-MODIFIED:20221014T061217Z
UID:6816-1669978800-1669989600@bio-pat.org
SUMMARY:Zukunft der Bioökonomie in Deutschland
DESCRIPTION:Zukunft der Bioökonomie in Deutschland – Vorstellung der Roadmap Zirkuläre Bioökonomie \n\n\n\nKlimawandel\, Biodiversitätsverlust und Ressourcenverknappung bei gleichzeitig steigender Weltbevölkerung – all dies stellt die Menschheit vor enorme Herausforderungen. Die Bioökonomie bietet mit Technologien\, Produkten und Wissen Lösungen für diese Herausforderungen unserer Gesellschaft. Sie kann entscheidend zur Transformation hin zu einer nachhaltigen Lebens- und Wirtschaftsweise beitragen. \n\n\n\nWie wird sich die Bioökonomie in Deutschland bis 2035 weiterentwickeln? In welchen Bereichen mit spezifisch ausgerichteter angewandter Forschung kann begleitet durch eine entsprechende politische Gestaltung der Rahmenbedingungen in den nächsten Jahren ein Markhochlauf intensiviert werden\, der zugleich den ökologischen und gesellschaftlichen Anforderungen entspricht? \n\n\n\nUm dies herauszufinden\, hat die Fraunhofer-Gesellschaft die wissenschaftlich-technologischen Potenziale der Bioökonomie entlang der Wertschöpfungskette analysiert und darauf aufbauend Handlungsempfehlungen entwickelt. Im Rahmen der Abschlussveranstaltung sollen nun die Ergebnisse zu Chancen und Herausforderungen für die Bioökonomie in Deutschland am 2. Dezember 2022 von 11.00 bis 14.00 Uhr vorgestellt und diese mit Vertreter*innen aus Politik\, Gesellschaft\, Industrie und Forschung diskutiert werden. Mit dabei sind u. a.: \n\n\n\nDr. Enrico Barsch\, Referat 725 – Nachhaltiges Wirtschaften; Bioökonomie\, Bundesministerium für Bildung und Forschung (BMBF)Dr. Dennis Eversberg\, Leiter der BMBF-Nachwuchsforschungsgruppe „Mentalitäten im Fluss“ (flumen)\, Institut für Soziologie\, Friedrich-Schiller-Universität JenaDr. Friedrich Gröteke\, Leiter Referat IV B 5 Bioökonomie; biobasierte Rohstoffe; Biotech- und Lebensmittelindustrie\, Bundesministerium für Wirtschaft und Klimaschutz (BMWK)Dr. Anne Lamp\, CEO und Co-Founder traceless materials GmbHProf. Dr.-Ing. Daniela Thrän\, Leiterin des Departments Bioenergie am UFZ GmbH und des Bereichs Bioenergiesysteme am DBFZ gGmbH sowie Co-Vorsitzende des Bioökonomierats der Bundesregierung\n\n\n\nAgenda:  \n\n\n\n11.00Eintreffen und Welcome Coffee11.15Offizielle Begrüßung11.25Präsentation der Roadmap Vorstellung Chancen\, Herausforderungen und Handlungsempfehlungen Sprecher*innen FSF Bioökonomie12.00Panel-Diskussion Moderation: Lena Grimm\, Fraunhofer-Gesellschaft Sprecher*innen FSF Bioökonomie Vertreter*innen aus Politik\, Gesellschaft\, Industrie und Forschung13.00Q&A Session13.15Schlussworte13.25Get-Together mit Catering14.00Ende der Veranstaltung\n\n\n\nUm Anmeldung wird bis zum 21. November 2022 unter folgendem Link gebeten: https://www.eniq.fraunhofer.de/de/Veranstaltungen/zukunft-der-biooekonomie-in-deutschland.html. \n\n\n\nBei Fragen kontaktieren Sie Frau Dr. Anna Stumpf\, Leitung Geschäftsstelle Strategisches Forschungsfeld Bioökonomie der Fraunhofer-Gesellschaft (Kontaktdaten s.u.)
URL:https://bio-pat.org/event/zukunft-der-biooekonomie-in-deutschland
LOCATION:Venue: Fraunhofer ENIQ\, EUREF-Campus 23/24 Berlin\, Berlin\, 10829
ATTACH;FMTTYPE=image/jpeg:https://bio-pat.org/wp-content/uploads/2022/10/160607-MBT-Biotechnologie-58-web-Biooekonomie.jpg
ORGANIZER;CN="Organizer%3A%20Fraunhofer-Gesellschaft":MAILTO:anna-katharina.stumpf@iap.fraunhofer.de
END:VEVENT
END:VCALENDAR