BEGIN:VCALENDAR
VERSION:2.0
PRODID:-//Bio-PAT - ECPv5.3.2.1//NONSGML v1.0//EN
CALSCALE:GREGORIAN
METHOD:PUBLISH
X-WR-CALNAME:Bio-PAT
X-ORIGINAL-URL:https://bio-pat.org
X-WR-CALDESC:Veranstaltungen für Bio-PAT
BEGIN:VTIMEZONE
TZID:Europe/Paris
BEGIN:DAYLIGHT
TZOFFSETFROM:+0100
TZOFFSETTO:+0200
TZNAME:CEST
DTSTART:20220327T010000
END:DAYLIGHT
BEGIN:STANDARD
TZOFFSETFROM:+0200
TZOFFSETTO:+0100
TZNAME:CET
DTSTART:20221030T010000
END:STANDARD
END:VTIMEZONE
BEGIN:VEVENT
DTSTART;TZID=Europe/Paris:20221129T100000
DTEND;TZID=Europe/Paris:20221201T180000
DTSTAMP:20260421T100753
CREATED:20221109T102303Z
LAST-MODIFIED:20221109T102401Z
UID:6978-1669716000-1669917600@bio-pat.org
SUMMARY:SOPAT auf dem PMEC in Delhi
DESCRIPTION:Über die Partnerschaft mit Spinco Biotech ist die SOPAT GmbH auf dem indischen Markt\, insbesondere im pharmazeutischen Sektor\, vertreten.   Eine große Veranstaltung in der pharmazeutischen Industrie ist die CPHI & PMEC India. Hier präsentiert Spinco Biotech Produkte der SOPAT GmbH auf dem Stand Nr. 11.C41. Mirco Wegener\, Head of Sales and Marketing\, wird ebenso vor Ort sein. \n\n\n\n\n\n\n\nAusstellerlisteInformationen für BesucherInformationen für Aussteller
URL:https://bio-pat.org/event/sopat-auf-dem-pmec
LOCATION:Venue: India Expo Centre\, Greater Noida\, Delhi NCR\, Indien
ATTACH;FMTTYPE=image/jpeg:https://bio-pat.org/wp-content/uploads/2022/11/pmec-sopat.jpg
END:VEVENT
BEGIN:VEVENT
DTSTART;TZID=Europe/Paris:20221201T160000
DTEND;TZID=Europe/Paris:20221201T170000
DTSTAMP:20260421T100753
CREATED:20211201T083410Z
LAST-MODIFIED:20230420T081150Z
UID:5644-1669910400-1669914000@bio-pat.org
SUMMARY:BlueSens Webinar: YeastForce - Measurement of dough parameters and yeast activity
DESCRIPTION:The BlueSens gas sensor GmbH\, a member of the Bio-PAT network\, offers a live webinar in English presenting the YeastForce technology – a user-friendly yeast performance testing in dough samples.  \n\n\n\nIt determines the dough volume\, gas holding capacity\, tearing point and more parameters. By this\, it helps to improve yeast based processes\, e.g. the baking process. \n\n\n\nRegistration
URL:https://bio-pat.org/event/bluesens-webinar-yeastforce-english-2-2
LOCATION:Venue: Online
ATTACH;FMTTYPE=image/jpeg:https://bio-pat.org/wp-content/uploads/2021/12/BlueSens-Webinar-01.12.2022.jpeg
END:VEVENT
BEGIN:VEVENT
DTSTART;TZID=Europe/Paris:20221202T110000
DTEND;TZID=Europe/Paris:20221202T140000
DTSTAMP:20260421T100753
CREATED:20221014T061215Z
LAST-MODIFIED:20221014T061217Z
UID:6816-1669978800-1669989600@bio-pat.org
SUMMARY:Zukunft der Bioökonomie in Deutschland
DESCRIPTION:Zukunft der Bioökonomie in Deutschland – Vorstellung der Roadmap Zirkuläre Bioökonomie \n\n\n\nKlimawandel\, Biodiversitätsverlust und Ressourcenverknappung bei gleichzeitig steigender Weltbevölkerung – all dies stellt die Menschheit vor enorme Herausforderungen. Die Bioökonomie bietet mit Technologien\, Produkten und Wissen Lösungen für diese Herausforderungen unserer Gesellschaft. Sie kann entscheidend zur Transformation hin zu einer nachhaltigen Lebens- und Wirtschaftsweise beitragen. \n\n\n\nWie wird sich die Bioökonomie in Deutschland bis 2035 weiterentwickeln? In welchen Bereichen mit spezifisch ausgerichteter angewandter Forschung kann begleitet durch eine entsprechende politische Gestaltung der Rahmenbedingungen in den nächsten Jahren ein Markhochlauf intensiviert werden\, der zugleich den ökologischen und gesellschaftlichen Anforderungen entspricht? \n\n\n\nUm dies herauszufinden\, hat die Fraunhofer-Gesellschaft die wissenschaftlich-technologischen Potenziale der Bioökonomie entlang der Wertschöpfungskette analysiert und darauf aufbauend Handlungsempfehlungen entwickelt. Im Rahmen der Abschlussveranstaltung sollen nun die Ergebnisse zu Chancen und Herausforderungen für die Bioökonomie in Deutschland am 2. Dezember 2022 von 11.00 bis 14.00 Uhr vorgestellt und diese mit Vertreter*innen aus Politik\, Gesellschaft\, Industrie und Forschung diskutiert werden. Mit dabei sind u. a.: \n\n\n\nDr. Enrico Barsch\, Referat 725 – Nachhaltiges Wirtschaften; Bioökonomie\, Bundesministerium für Bildung und Forschung (BMBF)Dr. Dennis Eversberg\, Leiter der BMBF-Nachwuchsforschungsgruppe „Mentalitäten im Fluss“ (flumen)\, Institut für Soziologie\, Friedrich-Schiller-Universität JenaDr. Friedrich Gröteke\, Leiter Referat IV B 5 Bioökonomie; biobasierte Rohstoffe; Biotech- und Lebensmittelindustrie\, Bundesministerium für Wirtschaft und Klimaschutz (BMWK)Dr. Anne Lamp\, CEO und Co-Founder traceless materials GmbHProf. Dr.-Ing. Daniela Thrän\, Leiterin des Departments Bioenergie am UFZ GmbH und des Bereichs Bioenergiesysteme am DBFZ gGmbH sowie Co-Vorsitzende des Bioökonomierats der Bundesregierung\n\n\n\nAgenda:  \n\n\n\n11.00Eintreffen und Welcome Coffee11.15Offizielle Begrüßung11.25Präsentation der Roadmap Vorstellung Chancen\, Herausforderungen und Handlungsempfehlungen Sprecher*innen FSF Bioökonomie12.00Panel-Diskussion Moderation: Lena Grimm\, Fraunhofer-Gesellschaft Sprecher*innen FSF Bioökonomie Vertreter*innen aus Politik\, Gesellschaft\, Industrie und Forschung13.00Q&A Session13.15Schlussworte13.25Get-Together mit Catering14.00Ende der Veranstaltung\n\n\n\nUm Anmeldung wird bis zum 21. November 2022 unter folgendem Link gebeten: https://www.eniq.fraunhofer.de/de/Veranstaltungen/zukunft-der-biooekonomie-in-deutschland.html. \n\n\n\nBei Fragen kontaktieren Sie Frau Dr. Anna Stumpf\, Leitung Geschäftsstelle Strategisches Forschungsfeld Bioökonomie der Fraunhofer-Gesellschaft (Kontaktdaten s.u.)
URL:https://bio-pat.org/event/zukunft-der-biooekonomie-in-deutschland
LOCATION:Venue: Fraunhofer ENIQ\, EUREF-Campus 23/24 Berlin\, Berlin\, 10829
ATTACH;FMTTYPE=image/jpeg:https://bio-pat.org/wp-content/uploads/2022/10/160607-MBT-Biotechnologie-58-web-Biooekonomie.jpg
ORGANIZER;CN="Organizer%3A%20Fraunhofer-Gesellschaft":MAILTO:anna-katharina.stumpf@iap.fraunhofer.de
END:VEVENT
BEGIN:VEVENT
DTSTART;TZID=Europe/Paris:20221207T090000
DTEND;TZID=Europe/Paris:20221208T220000
DTSTAMP:20260421T100753
CREATED:20211013T201229Z
LAST-MODIFIED:20221108T170717Z
UID:4816-1670403600-1670536800@bio-pat.org
SUMMARY:3. VLB International Brewing Web Conference (IBWC)
DESCRIPTION:The VLB International Brewing Web Conference aims to share brewing knowledge\, establish new relationships and discuss best practices for the brewing industry. The event is addressed to technical managers\, brewers and leading technical staff from production\, filling/packaging and quality assurance of breweries.Across two days (Wed-Thu)\, you will be guided through latest updates in brewing innovations\, sustainable beer production and current trends in brewing.  \n\n\n\nSince brewers from all over the world are adressed\, each conference day will start at a different time in order to fit to the different time zones.The conference language is English.  \n\n\n\nThe innovative virtual event platform “VLB Virtual Campus.” will allow you to listen to presentations\, ask questions to speakers\, network in our public video chat hub and visit the booths at the accompanying virtual exhibition. \n\n\n\nProgrammeRegistration
URL:https://bio-pat.org/event/2-international-brewing-web-conference-ibwc-at-vlb
LOCATION:Venue: Online Event VLB Virtual Campus
ATTACH;FMTTYPE=image/jpeg:https://bio-pat.org/wp-content/uploads/2021/10/IBWC_banner_1350x300_2022_v2.jpg
END:VEVENT
BEGIN:VEVENT
DTSTART;TZID=Europe/Paris:20221208T090000
DTEND;TZID=Europe/Paris:20221208T100000
DTSTAMP:20260421T100753
CREATED:20221119T152200Z
LAST-MODIFIED:20221119T153453Z
UID:7042-1670490000-1670493600@bio-pat.org
SUMMARY:Webinar with OSPIN: Control your lab processes modular & flexible
DESCRIPTION:Lab process made easy – Control your lab processes modular & flexible \n\n\n\nLearn in this joint webinar of Heidolph Instruments GmbH & Co. KG and OSPIN GmbH the benefits of an automated process solution for standardized and customized lab processes. Learn how easily you can connect\, control and monitor your experiments to reach faster and more reproducible results. \n\n\n\n\n\n\n\nAgenda:– Greetings and introduction– Product presentation and user experience– Questions & Answers live \n\n\n\n\n\n\n\nRegistration \n\n\n\nGet an impression of the software in this Video!
URL:https://bio-pat.org/event/webinar-with-ospin-control-your-lab-processes-modular-flexible
LOCATION:Venue: Online\, Deutschland
ATTACH;FMTTYPE=image/png:https://bio-pat.org/wp-content/uploads/2022/11/Webinar-Heidolph-Ospin-ENG.png
END:VEVENT
BEGIN:VEVENT
DTSTART;TZID=Europe/Paris:20221208T103000
DTEND;TZID=Europe/Paris:20221208T113000
DTSTAMP:20260421T100753
CREATED:20221119T150541Z
LAST-MODIFIED:20221119T153313Z
UID:7034-1670495400-1670499000@bio-pat.org
SUMMARY:Webinar mit OSPIN: Laborprozesse modular & flexibel steuern
DESCRIPTION:Lab process made easy – Steuern Sie Ihre Laborprozesse modular & flexibel. \n\n\n\nLernen Sie in diesem gemeinsamen Webinar auf Deutsch von Heidolph und OSPIN die Vorteile einer automatisierten Prozesslösung (Hei-PROCESS) für standardisierte und individuelle Laborprozesse. Lernen Sie\, wie einfach Sie sich verknüpfen und Ihre Experimente kontrollieren und überwachen können\, um schnellere und reproduzierbare Ergebnisse zu erzielen. \n\n\n\n\n\n\n\nAgenda:– Begrüßung und Vorstellung– Produktpräsentation und Anwendererfahrung– Fragen & Antworten live \n\n\n\n\n\n\n\nAnmeldung \n\n\n\nEinen Eindruck können Sie bereits in diesem Video gewinnen.
URL:https://bio-pat.org/event/webinar-mit-ospin-laborprozesse-modular-flexibel-steuern
LOCATION:online
ATTACH;FMTTYPE=image/png:https://bio-pat.org/wp-content/uploads/2022/11/Webinar-Heidolph-Ospin.png
END:VEVENT
BEGIN:VEVENT
DTSTART;TZID=Europe/Paris:20221208T150000
DTEND;TZID=Europe/Paris:20221208T160000
DTSTAMP:20260421T100753
CREATED:20221119T152845Z
LAST-MODIFIED:20221119T153412Z
UID:7046-1670511600-1670515200@bio-pat.org
SUMMARY:Webinar with OSPIN: Control your lab processes modular & flexible
DESCRIPTION:Lab process made easy – Control your lab processes modular & flexible \n\n\n\nLearn in this joint webinar of Heidolph Instruments GmbH & Co. KG and OSPIN GmbH the benefits of an automated process solution for standardized and customized lab processes. Learn how easily you can connect\, control and monitor your experiments to reach faster and more reproducible results. \n\n\n\n\n\n\n\nAgenda:– Greetings and introduction– Product presentation and user experience– Questions & Answers live \n\n\n\n\n\n\n\nRegistration \n\n\n\nGet an impression of the software in this Video!
URL:https://bio-pat.org/event/webinar-with-ospin-control-your-lab-processes-modular-flexible-2
LOCATION:Venue: online
ATTACH;FMTTYPE=image/png:https://bio-pat.org/wp-content/uploads/2022/11/Webinar-Heidolph-Ospin-ENG.png
END:VEVENT
BEGIN:VEVENT
DTSTART;TZID=Europe/Paris:20221213T130000
DTEND;TZID=Europe/Paris:20221215T130000
DTSTAMP:20260421T100753
CREATED:20221107T083105Z
LAST-MODIFIED:20221108T120213Z
UID:6914-1670936400-1671109200@bio-pat.org
SUMMARY:SOPAT auf der CHOCO TEC in Köln
DESCRIPTION:Die CHOCO TEC ist einer der erfolgreichsten Kongresse und wichtigsten Treffpunkte für die Schokoladenindustrie und gibt einen großen Überblick über aktuelle Trends\, international wachsende Märkte\, neuartige funktionelle Rohstoffe\, innovative Technologien\, Qualitätssicherungsaspekte\, Nachhaltigkeit und vieles mehr. \n\n\n\nDie Foyer- und Produktmusterausstellung lädt dazu ein\, neue Produkte und Verfahren kennenzulernen. Tauschen Sie sich mit anderen Teilnehmern und hochrangigen Referenten aus Industrie und Forschung aus oder besuchen Sie die Posterausstellung! Beim „Poster-Slam“ präsentieren die Poster-Aussteller dann innerhalb einer Minute die wichtigsten Inhalte ihrer Forschungen. Ein tolles Rahmenprogramm und das festliche Abendessen am ersten Abend runden den Kongress ab.  \n\n\n\nAuch die SOPAT GmbH wird vor Ort sein. Lernen Sie mehr über das ChocoScope\, eine insitu photo-optische Technologie für die Schokoladenindustrie. \n\n\n\n\n\n\n\n\n\n\n\nFoyer-Ausstellung \n\n\n\nWährend der gesamten Veranstaltung findet in den Messehallen eine Foyer-Ausstellung statt\, die seither zu einem wichtigen Bestandteil der CHOCO TEC geworden ist. Hier haben Aussteller die Möglichkeit\, Ihre Produkte und Maschinen einem internationalen Publikum vorzustellen. Einige der Aussteller werden in den großzügig bemessenen Pausen ihre Neuheiten in kurzen Präsentationen vorstellen. \n\n\n\nZielgruppe \n\n\n\nDie CHOCO TEC wendet sich primär an Technologie-Interessierte aus der Schokoladen-Branche. Aber auch Akteuren aus Wissenschaft\, Produktions- und Qualitätsmanagement\, Produktentwicklung und Analytik bietet der Kongress eine große Bandbreite an interessanten Themen. \n\n\n\nProgrammAusstellungPosterausstellung
URL:https://bio-pat.org/event/sopat-auf-der-choco-tec-in-koeln
LOCATION:Venue: Congress-Centrum Nord Koelnmesse/ KölnKongress\, Deutz-Mülheimer-Straße 111\, Köln\, 50679\, Deutschland
ATTACH;FMTTYPE=image/jpeg:https://bio-pat.org/wp-content/uploads/2022/11/Choco_Tec.jpg
ORGANIZER;CN="Organizer%3A%20ZDS%20-%20Zentralfachschule%20der%20Deutschen%20S%C3%BC%C3%9Fwarenwirtschaft%20e.V.":MAILTO:info@zds-solingen.de
END:VEVENT
BEGIN:VEVENT
DTSTART;TZID=Europe/Paris:20221215T153000
DTEND;TZID=Europe/Paris:20221215T163000
DTSTAMP:20260421T100753
CREATED:20221117T155332Z
LAST-MODIFIED:20221214T073821Z
UID:7032-1671118200-1671121800@bio-pat.org
SUMMARY:BlueSens Webinar: Humidity in off-gas analysis - intended purpose and out- of-the-box application
DESCRIPTION:The BlueSens gas sensor GmbH\, a member of the Bio-PAT network\, offers a live webinar in English entitled „Humidity in off-gas analysis – intended purpose and out- of-the-box application. \n\n\n\nAs the proper measurement of CO2 and O2 depends – amongst other parameters – on the humidity\, this parameter is measured and internally used for accurate O2 and CO2 measurements in standard fermentation applications. This additional parameter is also available as an output signal in the „BlueInOne-Ferm“ device of BlueSens. Hence\, it offers an additional usage of the humidity data of the off-gas airflow in a fermentation process. \n\n\n\nIf you want to learn more about the additional value of the humidity in a process\, register HERE.
URL:https://bio-pat.org/event/bluesens-webinar-humidity-in-off-gas-analysis-intended-purpose-and-out-of-the-box-application
LOCATION:Venue: Online\, Deutschland
ATTACH;FMTTYPE=image/png:https://bio-pat.org/wp-content/uploads/2020/06/BlueSens-2.png
END:VEVENT
END:VCALENDAR