BEGIN:VCALENDAR
VERSION:2.0
PRODID:-//Bio-PAT - ECPv5.3.2.1//NONSGML v1.0//EN
CALSCALE:GREGORIAN
METHOD:PUBLISH
X-WR-CALNAME:Bio-PAT
X-ORIGINAL-URL:https://bio-pat.org
X-WR-CALDESC:Veranstaltungen für Bio-PAT
BEGIN:VTIMEZONE
TZID:Europe/Paris
BEGIN:DAYLIGHT
TZOFFSETFROM:+0100
TZOFFSETTO:+0200
TZNAME:CEST
DTSTART:20220327T010000
END:DAYLIGHT
BEGIN:STANDARD
TZOFFSETFROM:+0200
TZOFFSETTO:+0100
TZNAME:CET
DTSTART:20221030T010000
END:STANDARD
END:VTIMEZONE
BEGIN:VEVENT
DTSTART;TZID=Europe/Paris:20220328T080000
DTEND;TZID=Europe/Paris:20220331T170000
DTSTAMP:20260423T204300
CREATED:20211004T135426Z
LAST-MODIFIED:20230224T151615Z
UID:4693-1648454400-1648746000@bio-pat.org
SUMMARY:7th BioProScale Symposium 2022 in Berlin
DESCRIPTION:7th BioProScale Symposium 2022 in Berlin\n\n\n\nThe 7th BioProScale Symposium 2022 is planned as an in-person event in Berlin with the possibility to follow the lectures online. It is targeted to experts from research & development and industrial practice in the industrial bioprocessing of pharmaceuticals\, food\, feed and renewables. Join the 7th BioProScale Symposium and enjoy the lectures and poster sessions\, get insights into the newest technologies at the accompanying exhibition and network with the other participants.The symposium provides an ideal platform for sharing and exploring the latest advancements and innovations in the field of bioprocessing and bioprocess development. It will focus on the theme “ 𝗦𝗰𝗮𝗹𝗶𝗻𝗴 𝗨𝗽 𝗮𝗻𝗱 𝗗𝗼𝘄𝗻 𝗼𝗳 𝗕𝗶𝗼𝗽𝗿𝗼𝗰𝗲𝘀𝘀𝗲𝘀: 𝗧𝗲𝗰𝗵𝗻𝗼𝗹𝗼𝗴𝗶𝗰𝗮𝗹 𝗜𝗻𝗻𝗼𝘃𝗮𝘁𝗶𝗼𝗻 𝗮𝗻𝗱 𝗖𝗲𝗹𝗹 𝗣𝗵𝘆𝘀𝗶𝗼𝗹𝗼𝗴𝘆 𝗜𝗻𝘀𝗶𝗴𝗵𝘁𝘀“\, which will be split in two parts:Part 1 (March 28-29): 𝗜𝗻𝗱𝘂𝘀𝘁𝗿𝗶𝗮𝗹 𝗦𝗰𝗮𝗹𝗲 – 𝗦𝗰𝗮𝗹𝗶𝗻𝗴 𝘂𝗽 𝗮𝗻𝗱 𝗱𝗼𝘄𝗻 – 𝗣𝗔𝗧: Industrial-scale bioprocessing / Scale up and scale down / Bioprocesses for a circular economy / Process analytical technologies (PAT);Part 2 (March 30-31): 𝗛𝗶𝗴𝗵 𝗧𝗵𝗿𝗼𝘂𝗴𝗵𝗽𝘂𝘁 𝗕𝗶𝗼𝗽𝗿𝗼𝗰𝗲𝘀𝘀 𝗗𝗲𝘃𝗲𝗹𝗼𝗽𝗺𝗲𝗻𝘁 – 𝗔𝗱𝘃𝗮𝗻𝗰𝗲𝘀 𝗶𝗻 𝗦𝗼𝗳𝘁𝘄𝗮𝗿𝗲\, 𝗛𝗮𝗿𝗱𝘄𝗮𝗿𝗲\, 𝗮𝗻𝗱 𝗜𝗻𝘁𝗲𝗴𝗿𝗮𝘁𝗶𝗼𝗻: Machine learning and modeling of bioprocesses / High-throughput bioprocessing and automation.Plenary speakers:: Dr. Steffen Panzner\, Prof. Vera Meyer\, Prof. Thomas Scheibel\, Soeren Bernauer\, Prof. Jarka Glassey\, Prof. Veronique Chotteau and Prof. Ross King. Have a look on the programme. \n\n\n\nThe official deadline of the Call for Papers has already expired. But due to further demand the Call for POSTERS („last minute“) is open until March 9\, 2022. Please note\, that submissions after March 9\, 2022\, will not be listed in the printed Abstract Book. We recommend to use this Word template for your abstract. \n\n\n\nYou also can present your company or institution\, your products and services to your target group in the accompanying exhibition (on-site) or as a conference sponsor. Sponsorship opportunities include advertisements in the abstract booklet (PDF) and/or on the conference website as well as a booth in the on-site exhibition. Due to the restricted space\, we recommend to reserve your space as soon as possible.Amongst others\, the Bio-PAT members BlueSens gas sensor GmbH\, Celltainer Biosolutions GmbH\, Enpresso GmbH and KNAUER Wissenschaftliche Gräte GmbH have already booked their space. \n\n\n\n\n\n\n\n\n \n\n\n\n\nIn the last in-person symposium in 2018\, 260 participants from different countries\, over 70 presentations\, 50 Posters und 18 exhibitors wer registered. More information about the last symposia can be found in the history. The network Bio-PAT is again supporting the organizers in the preparations of the event. \n\n\n\n\n\n\n\nWe look forward to see you in Berlin in March – in person or online. For regular updates follow the 𝗟𝗶𝗻𝗸𝗲𝗱𝗜𝗻 𝗴𝗿𝗼𝘂𝗽 „BioProScale Symposium„.  \n\n\n\nProgrammeInformation about exhibition / SponsoringRegistraton
URL:https://bio-pat.org/event/7th-bioproscale-symposium-in-berlin
LOCATION:Venue: Langenbeck-Virchow Haus\, Luisenstraße 58/59\, Berlin\, Berlin\, 10117\, Deutschland
ATTACH;FMTTYPE=image/png:https://bio-pat.org/wp-content/uploads/2021/10/BioPro2022_Socialmedia-Banner_1350x757.png
END:VEVENT
END:VCALENDAR