BEGIN:VCALENDAR
VERSION:2.0
PRODID:-//Bio-PAT - ECPv5.3.2.1//NONSGML v1.0//EN
CALSCALE:GREGORIAN
METHOD:PUBLISH
X-WR-CALNAME:Bio-PAT
X-ORIGINAL-URL:https://bio-pat.org
X-WR-CALDESC:Veranstaltungen für Bio-PAT
BEGIN:VTIMEZONE
TZID:UTC
BEGIN:STANDARD
TZOFFSETFROM:+0000
TZOFFSETTO:+0000
TZNAME:UTC
DTSTART:20200101T000000
END:STANDARD
END:VTIMEZONE
BEGIN:VEVENT
DTSTART;TZID=UTC:20201124T170000
DTEND;TZID=UTC:20201124T180000
DTSTAMP:20260422T120207
CREATED:20201120T213229Z
LAST-MODIFIED:20201121T152620Z
UID:3775-1606237200-1606240800@bio-pat.org
SUMMARY:BlueSens Webinar in English: How to use off-gas analysis for bioprocess optimization
DESCRIPTION:Due to the high demand\, we are repeating the webinar „With gas analysis for bioprocess optimization“. Join BlueSens on a virtual „walk through“ through some impressive application examples. \n\n\n\nRegistration
URL:https://bio-pat.org/event/bluesens-webinar-in-englisch-how-to-use-off-gas-analysis-for-bioprocess-optimization
LOCATION:Venue: Webinar
END:VEVENT
END:VCALENDAR