BEGIN:VCALENDAR
VERSION:2.0
PRODID:-//Bio-PAT - ECPv5.3.2.1//NONSGML v1.0//EN
CALSCALE:GREGORIAN
METHOD:PUBLISH
X-WR-CALNAME:Bio-PAT
X-ORIGINAL-URL:https://bio-pat.org
X-WR-CALDESC:Veranstaltungen für Bio-PAT
BEGIN:VTIMEZONE
TZID:Europe/Paris
BEGIN:DAYLIGHT
TZOFFSETFROM:+0100
TZOFFSETTO:+0200
TZNAME:CEST
DTSTART:20210328T010000
END:DAYLIGHT
BEGIN:STANDARD
TZOFFSETFROM:+0200
TZOFFSETTO:+0100
TZNAME:CET
DTSTART:20211031T010000
END:STANDARD
END:VTIMEZONE
BEGIN:VEVENT
DTSTART;TZID=Europe/Paris:20210211T170000
DTEND;TZID=Europe/Paris:20210211T180000
DTSTAMP:20260420T095456
CREATED:20210128T090104Z
LAST-MODIFIED:20210128T094858Z
UID:3923-1613062800-1613066400@bio-pat.org
SUMMARY:BlueSens Webinar: Professional tools for biogas applications (English)
DESCRIPTION:In this webinar\, the BlueSens gas sensor GmbH presents professional tools for biogas applications.  \n\n\n\n\n\n\n\n\n\n\n\n\n\n\n\nRegistration
URL:https://bio-pat.org/event/bluesens-webinar-professional-tools-for-biogas-applications-english
LOCATION:Webinar
ATTACH;FMTTYPE=image/png:https://bio-pat.org/wp-content/uploads/2021/01/csm_Icon-Academy-RGB-POS_ed94c253c7.png
END:VEVENT
END:VCALENDAR