BEGIN:VCALENDAR
VERSION:2.0
PRODID:-//Bio-PAT - ECPv5.3.2.1//NONSGML v1.0//EN
CALSCALE:GREGORIAN
METHOD:PUBLISH
X-WR-CALNAME:Bio-PAT
X-ORIGINAL-URL:https://bio-pat.org
X-WR-CALDESC:Veranstaltungen für Bio-PAT
BEGIN:VTIMEZONE
TZID:UTC
BEGIN:STANDARD
TZOFFSETFROM:+0000
TZOFFSETTO:+0000
TZNAME:UTC
DTSTART:20200101T000000
END:STANDARD
END:VTIMEZONE
BEGIN:VEVENT
DTSTART;TZID=UTC:20201124T110000
DTEND;TZID=UTC:20201124T120000
DTSTAMP:20260422T150915
CREATED:20201119T100300Z
LAST-MODIFIED:20201123T055217Z
UID:3736-1606215600-1606219200@bio-pat.org
SUMMARY:KNAUER: Webinar auf Deutsch: Bringen Sie ein HPLC- System zur Höchstleistung – Wir zeigen ihnen wie!
DESCRIPTION:Nach der Einführung der UHPLC in 2004 bestand der Wettbewerb der HPLC-Hersteller weltweit darin\, das System mit dem höchsten Systemgegendruck auf den Markt zu bringen. Doch der höchste Druck führt nicht zur größten Leistung. KNAUER zeigt Ihnen\, worauf es wirklich ankommt in der modernen Flüssigkeitschromatografie\, um Geschwindigkeit\, Auflösung und Probendurchsatz zu optimieren und dabei die Anschaffungskosten für UHPLC Systeme auf HPLC-Niveau zu belassen. Seien Sie gespannt! \n\n\n\n\n\n\n\n\n\nAnmeldung
URL:https://bio-pat.org/event/bringen-sie-ein-hplc-system-zur-hoechstleistung-wir-zeigen-ihnen-wie
LOCATION:Veranstaltungsort: Webinar\, Hegauer Weg 38\, 14163 Berlin
END:VEVENT
END:VCALENDAR