BEGIN:VCALENDAR
VERSION:2.0
PRODID:-//Bio-PAT - ECPv5.3.2.1//NONSGML v1.0//EN
CALSCALE:GREGORIAN
METHOD:PUBLISH
X-WR-CALNAME:Bio-PAT
X-ORIGINAL-URL:https://bio-pat.org
X-WR-CALDESC:Veranstaltungen für Bio-PAT
BEGIN:VTIMEZONE
TZID:UTC
BEGIN:STANDARD
TZOFFSETFROM:+0000
TZOFFSETTO:+0000
TZNAME:UTC
DTSTART:20200101T000000
END:STANDARD
END:VTIMEZONE
BEGIN:VEVENT
DTSTART;TZID=UTC:20201120T082500
DTEND;TZID=UTC:20201120T151500
DTSTAMP:20260422T192929
CREATED:20201027T092522Z
LAST-MODIFIED:20201027T092523Z
UID:3676-1605860700-1605885300@bio-pat.org
SUMMARY:KNAUER auf dem Praxistag HPLC (online)
DESCRIPTION:Die Hochleistungsflüssigchromatographie ist die am häufigsten eingesetzte Trennmethode im Labor. Der Praxistag HPLC beschäftigt sich eingehend mit dieser wichtigen Analysemethoden. Er ist der etablierte und beliebte Anwendertreff von Labormitarbeitern\, Laborleitern und Anwendungsexperten aus Industrie und Forschung. Erleben Sie komprimiert an einem Tag praxisnahes HPLC Wissen zum Anfassen\, lernen Sie von ausgewiesenen HPLC-Experten Tipps und Tricks beim täglichen Umgang mit HPLC-Systemen und ihren Komponenten und erweitern Sie Ihr Expertennetzwerk. \n\n\n\nAuch in diesem Jahr nimmt KNAUER am Praxistag HPLC teil. Corinna Pfeiffer und Birger Holz beraten Sie am KNAUER Stand über HPLC-Lösungen. Verpassen Sie außerdem den Vortrag mit dem Titel „UHPLC: Weg vom Druck und hin zur Leistung“ um 13:45 Uhr nicht! \n\n\n\nAnmeldungProgrammReferenten
URL:https://bio-pat.org/event/knauer-auf-dem-praxistag-hplc-online
LOCATION:Webinar
ORGANIZER;CN="LABORPRAXIS%20in%20Berlin":MAILTO:elisabeth.dietz@vogel.de
END:VEVENT
END:VCALENDAR