BEGIN:VCALENDAR
VERSION:2.0
PRODID:-//Bio-PAT - ECPv5.3.2.1//NONSGML v1.0//EN
CALSCALE:GREGORIAN
METHOD:PUBLISH
X-WR-CALNAME:Bio-PAT
X-ORIGINAL-URL:https://bio-pat.org
X-WR-CALDESC:Veranstaltungen für Bio-PAT
BEGIN:VTIMEZONE
TZID:Europe/Paris
BEGIN:DAYLIGHT
TZOFFSETFROM:+0100
TZOFFSETTO:+0200
TZNAME:CEST
DTSTART:20210328T010000
END:DAYLIGHT
BEGIN:STANDARD
TZOFFSETFROM:+0200
TZOFFSETTO:+0100
TZNAME:CET
DTSTART:20211031T010000
END:STANDARD
END:VTIMEZONE
BEGIN:VEVENT
DTSTART;TZID=Europe/Paris:20210506T110000
DTEND;TZID=Europe/Paris:20210506T120000
DTSTAMP:20260419T184313
CREATED:20210501T113541Z
LAST-MODIFIED:20210501T113543Z
UID:4251-1620298800-1620302400@bio-pat.org
SUMMARY:KNAUER Webinar: ECD
DESCRIPTION:Electrochemische Detektion (ECD) für HPLC oder UHPLC ist eine äußerst selektive und empfindliche Nachweismethode\, die in einer Reihe von Analysen in der Lebensmittelindustrie angewendet wird. Mit seinem breiten linearen Bereich und der hohen Empfindlichkeit ist es die ideale Detektionstechnik\, selbst für Spuren von Verbindungen\, die z. B. bei der Bestimmung des Laktosegehalts von laktosefreien Produkten nützlich sein kann. \n\n\n\nAllgemeine InformationenRegistrierung
URL:https://bio-pat.org/event/knauer-webinar-ecd
LOCATION:Venue: online
ORGANIZER;CN="Organisation%3A%20KNAUER%20Wissenschaftliche%20Ger%C3%A4te%20GmbH":MAILTO:events@knauer.net
END:VEVENT
END:VCALENDAR