BEGIN:VCALENDAR
VERSION:2.0
PRODID:-//Bio-PAT - ECPv5.3.2.1//NONSGML v1.0//EN
CALSCALE:GREGORIAN
METHOD:PUBLISH
X-WR-CALNAME:Bio-PAT
X-ORIGINAL-URL:https://bio-pat.org
X-WR-CALDESC:Veranstaltungen für Bio-PAT
BEGIN:VTIMEZONE
TZID:UTC
BEGIN:STANDARD
TZOFFSETFROM:+0000
TZOFFSETTO:+0000
TZNAME:UTC
DTSTART:20200101T000000
END:STANDARD
END:VTIMEZONE
BEGIN:VEVENT
DTSTART;TZID=UTC:20201124T170000
DTEND;TZID=UTC:20201124T180000
DTSTAMP:20260424T101645
CREATED:20201120T073300Z
LAST-MODIFIED:20201217T132906Z
UID:3725-1606237200-1606240800@bio-pat.org
SUMMARY:KNAUER: Webinar in English: How to upgrade an HPLC system to the highest performance level
DESCRIPTION:After the introduction of UHPLC in 2004\, the competition among HPLC manufacturers worldwide was to bring the system with the highest system back pressure onto the market. But the highest pressure does not automatically lead to the best performance. KNAUER shows you what is really important in modern liquid chromatography in order to optimize speed\, resolution and sample throughput while keeping the acquisition costs for UHPLC systems at HPLC level. Don’t miss the webinar!  \n\n\n\nRegistration
URL:https://bio-pat.org/event/knauer-webinar-in-english-how-to-upgrade-an-hplc-system-to-the-highest-performance-level-2
LOCATION:Venue: Webinar\, Hegauer Weg 38\, 14163 Berlin\, Germany
ORGANIZER;CN="KNAUER%20Wissenschaftliche%20Ger%C3%A4te%20GmbH":MAILTO:events@knauer.net
END:VEVENT
END:VCALENDAR