BEGIN:VCALENDAR
VERSION:2.0
PRODID:-//Bio-PAT - ECPv5.3.2.1//NONSGML v1.0//EN
CALSCALE:GREGORIAN
METHOD:PUBLISH
X-WR-CALNAME:Bio-PAT
X-ORIGINAL-URL:https://bio-pat.org
X-WR-CALDESC:Veranstaltungen für Bio-PAT
BEGIN:VTIMEZONE
TZID:Europe/Paris
BEGIN:DAYLIGHT
TZOFFSETFROM:+0100
TZOFFSETTO:+0200
TZNAME:CEST
DTSTART:20230326T010000
END:DAYLIGHT
BEGIN:STANDARD
TZOFFSETFROM:+0200
TZOFFSETTO:+0100
TZNAME:CET
DTSTART:20231029T010000
END:STANDARD
END:VTIMEZONE
BEGIN:VEVENT
DTSTART;TZID=Europe/Paris:20230319T070000
DTEND;TZID=Europe/Paris:20230323T160000
DTSTAMP:20260424T151206
CREATED:20230320T073945Z
LAST-MODIFIED:20230320T073947Z
UID:9203-1679209200-1679587200@bio-pat.org
SUMMARY:Knick Interface LLC at the APEC
DESCRIPTION:Knick Interface LLC at the APEC \n\n\n\nThe Applied Power Electronics Conference (APEC) focuses on the practical and applied aspects of the power electronics business. This is not just a designer’s conference; APEC has something of interest for anyone involved in power electronics: \n\n\n\nEquipment OEMs that use power supplies and dc-dc converters in their equipmentDesigners of power supplies\, dc-dc converters\, motor drives\, uninterruptable power supplies\, inverters and any other power electronic circuits\, equipment and systemsManufacturers and suppliers of components and assemblies used in power electronicsManufacturing\, quality and test engineers involved with power electronics equipmentMarketing\, sales and anyone involved in the business of power electronicsCompliance engineers testing and qualifying power electronics equipment or equipment that uses power electronics\n\n\n\nThe APEC offers various sessions and side activities:Professional Education SeminarsPlenary SessionsTechnical SessionsIndustry SessionsExhibitor SeminarsRAP SessionsExpositionSocial EventSpouse Activities \n\n\n\nThe APEC Conference hosts an exposition featuring hundreds of companies serving the power electronics industry in a variety of capacities. Top manufacturers and service providers are on hand to help you explore the latest in technology and solutions. \n\n\n\nVisit Knick Interface LLC at booth 104. \n\n\n\n\n\n\n\nList of exibitorsScheduleRegistration
URL:https://bio-pat.org/event/knick-interface-llc-at-the-apec
LOCATION:Venue: Orange County Convention Center Orlando\, FL\, 9800 International Dr\, Orlando\, Florida\, 32819\, Vereinigte Staaten
ATTACH;FMTTYPE=image/png:https://bio-pat.org/wp-content/uploads/2023/03/APEC-logo.png
ORGANIZER;CN="Organizer%3A%20APEC%20c%2Fo%20Smithbucklin":MAILTO:apec@apec-conf.org
END:VEVENT
END:VCALENDAR