BEGIN:VCALENDAR
VERSION:2.0
PRODID:-//Bio-PAT - ECPv5.3.2.1//NONSGML v1.0//EN
CALSCALE:GREGORIAN
METHOD:PUBLISH
X-WR-CALNAME:Bio-PAT
X-ORIGINAL-URL:https://bio-pat.org
X-WR-CALDESC:Veranstaltungen für Bio-PAT
BEGIN:VTIMEZONE
TZID:Europe/Paris
BEGIN:DAYLIGHT
TZOFFSETFROM:+0100
TZOFFSETTO:+0200
TZNAME:CEST
DTSTART:20220327T010000
END:DAYLIGHT
BEGIN:STANDARD
TZOFFSETFROM:+0200
TZOFFSETTO:+0100
TZNAME:CET
DTSTART:20221030T010000
END:STANDARD
END:VTIMEZONE
BEGIN:VEVENT
DTSTART;TZID=Europe/Paris:20220914T080000
DTEND;TZID=Europe/Paris:20220914T160000
DTSTAMP:20260421T101621
CREATED:20210904T113540Z
LAST-MODIFIED:20220725T075625Z
UID:6366-1663142400-1663171200@bio-pat.org
SUMMARY:Knick und Pronova auf der MEORGA Ludwigshafen
DESCRIPTION:´\n\n\n\n\n\n\n\n\nMEORGA veranstaltet technologisch orientierte Fachmessen mit begleitenden Fachvorträgen für Produkte der Messtechnik\, Steuerungstechnik\, Regeltechnik\, Prozessleitsysteme und Automatisierungstechnik in der Prozess- und Fabrikautomation. \n\n\n\nAn der MSR-Spezialmesse in Ludwigshafen wird auch die Knick Elektronische Messgeräte GmbH & Co. KG sowie die Pronova Analysentechnik GmbH & Co. KG vertreten sein.  \n\n\n\nKnick stellt u.a. Lösungen für Messtechnik\, Steuerungstechnik\, und Automatisierungstechnik vor.Pronova berät Sie zu den neuen Anforderungen TRAS 120 und 44. BlmSchV. und zum Emissionsauswertesystem EMIR sowie zu aktuellen Entwicklungen und dem Leistungspektrum. \n\n\n\nMesseflyerAusstellerlisteFachvorträgeBesucherregistrierung (kostenfrei)
URL:https://bio-pat.org/event/pronova-analysentechnik-gmbh-co-kg-auf-der-meorga-2-2
LOCATION:Venue: Friedrich-Ebert-Halle\, Erzbergerstr. 89\, Ludwigshafen\, 67063\, Deutschland
ATTACH;FMTTYPE=image/png:https://bio-pat.org/wp-content/uploads/2021/09/meorga-1.png
ORGANIZER;CN="Organisation%3A%20MEORGA%20GmbH":MAILTO:info@meorga.de
END:VEVENT
END:VCALENDAR