BEGIN:VCALENDAR
VERSION:2.0
PRODID:-//Bio-PAT - ECPv5.3.2.1//NONSGML v1.0//EN
CALSCALE:GREGORIAN
METHOD:PUBLISH
X-WR-CALNAME:Bio-PAT
X-ORIGINAL-URL:https://bio-pat.org
X-WR-CALDESC:Veranstaltungen für Bio-PAT
BEGIN:VTIMEZONE
TZID:UTC
BEGIN:STANDARD
TZOFFSETFROM:+0000
TZOFFSETTO:+0000
TZNAME:UTC
DTSTART:20200101T000000
END:STANDARD
END:VTIMEZONE
BEGIN:VEVENT
DTSTART;TZID=UTC:20201104T080000
DTEND;TZID=UTC:20201104T160000
DTSTAMP:20260422T231608
CREATED:20200508T165445Z
LAST-MODIFIED:20201012T085413Z
UID:2329-1604476800-1604505600@bio-pat.org
SUMMARY:Pronova Analysentechnik GmbH & Co. KG auf der MEORGA\, MSR-Spezialmesse in Bochum
DESCRIPTION:MSR-Spezialmesse: Technologisch orientierte Fachmesse mit begleitenden  Fachvorträgen (Workshops) für Produkte der Messtechnik\,  Steuerungstechnik\, Regeltechnik\, Prozessleitsysteme und  Automatisierungstechnik.  Besuchen Sie die Pronova Analysentechnik GmbH & Co. KG\,  sie berät Sie gern zu den neuen Anforderungen TRAS 120 und 44. BlmSchV.  und zu den aktuellen Entwicklungen und Leistungen in den Bereichen  Analysensysteme\, Analysatoren und Sensoren\, sowie für Komponenten der  Biogasanalyse\, Gasanalyse und Gaswarntechnik.  \n\n\n\nMesseflyerAussteller FachvorträgeThemenzuordnungMessekatalog
URL:https://bio-pat.org/event/pronova-analysentechnik-gmbh-co-kg-auf-der-meorga-msr-spezialmesse-in-bochum
LOCATION:Venue: RuhrCongress Bochum\, Stadionring 20\, Bochum\, Nordrhein-Westfalen\, 44791\, Deutschland
ORGANIZER;CN="Organizer%3A%20MEORGA%20GmbH":MAILTO:info@meorga.de
END:VEVENT
END:VCALENDAR