BEGIN:VCALENDAR
VERSION:2.0
PRODID:-//Bio-PAT - ECPv5.3.2.1//NONSGML v1.0//EN
CALSCALE:GREGORIAN
METHOD:PUBLISH
X-WR-CALNAME:Bio-PAT
X-ORIGINAL-URL:https://bio-pat.org
X-WR-CALDESC:Veranstaltungen für Bio-PAT
BEGIN:VTIMEZONE
TZID:Europe/Paris
BEGIN:DAYLIGHT
TZOFFSETFROM:+0100
TZOFFSETTO:+0200
TZNAME:CEST
DTSTART:20230326T010000
END:DAYLIGHT
BEGIN:STANDARD
TZOFFSETFROM:+0200
TZOFFSETTO:+0100
TZNAME:CET
DTSTART:20231029T010000
END:STANDARD
END:VTIMEZONE
BEGIN:VEVENT
DTSTART;TZID=Europe/Paris:20230329T090000
DTEND;TZID=Europe/Paris:20230406T170000
DTSTAMP:20260419T173143
CREATED:20220124T091317Z
LAST-MODIFIED:20230314T174040Z
UID:7274-1680080400-1680800400@bio-pat.org
SUMMARY:VLB Training Course Micro Malting in Practice 2023
DESCRIPTION:“Micro Malting in Practice” is an 8-day hands-on course providing up-to-date knowledge in the field of malting. It covers the basics of malting technology in theory and practice. The lectures will cover topics such as malting barley and other relevant cereals (botanics\, quality\, varieties\, enzymes a.o.)\, malting technology (steeping\, germination\, kilning\, special aspects of small-scale malting\, equipment) and practical laboratory work (barley and malt analysis\, interpretation and assessment of different quality parameters).In addition\, the participants will conduct and accompany a complete malting batch in our pilot malting.The language is English. You can expect an intensive training with maximum benefit. \n\n\n\nThe following topics will be covered: \n\n\n\nPractical malting at the VLB pilot malting plantBarley and other brewing cerealsWorld barley trade / growth regionsBotanicsChemical composition / chemistry of sugars\,proteins\, glucans and other main componentsEvaluation of qualityMalting barley varieties / breedingPests and diseases / mycotoxinsEnzymesMalting technologyStorage of barley and maltSteeping technologyGermination technologyKilning technologyProduction of different malt typesProduction of special maltsInfluence of malt house equipment on malt quality / classical and modern malting systemsSmall scale malting and malting systemsCharacteristics and chemical composition of cereals used in brewingEquipment for micro maltingsPractical laboratory workBarley analysisMalt specifications and malt analysisAssessment of quality parameters\n\n\n\nAnmeldung
URL:https://bio-pat.org/event/vlb-training-course-micro-malting-in-practice-2022-2
LOCATION:Venue: VLB Berlin\, Seestr. 13\, Berlin\, 13353\, Deutschland
ATTACH;FMTTYPE=image/jpeg:https://bio-pat.org/wp-content/uploads/2021/11/VLB-quer.jpg
ORGANIZER;CN="Organizer%3A%20VLB%20Berlin":MAILTO:meyer@vlb-berlin.org
END:VEVENT
END:VCALENDAR